BEGIN:VCALENDAR
VERSION:2.0
PRODID:-//CLIHTF - ECPv6.15.20//NONSGML v1.0//EN
CALSCALE:GREGORIAN
METHOD:PUBLISH
X-WR-CALNAME:CLIHTF
X-ORIGINAL-URL:https://clihtf.org
X-WR-CALDESC:Events for CLIHTF
REFRESH-INTERVAL;VALUE=DURATION:PT1H
X-Robots-Tag:noindex
X-PUBLISHED-TTL:PT1H
BEGIN:VTIMEZONE
TZID:America/Chicago
BEGIN:DAYLIGHT
TZOFFSETFROM:-0600
TZOFFSETTO:-0500
TZNAME:CDT
DTSTART:20250309T080000
END:DAYLIGHT
BEGIN:STANDARD
TZOFFSETFROM:-0500
TZOFFSETTO:-0600
TZNAME:CST
DTSTART:20251102T070000
END:STANDARD
BEGIN:DAYLIGHT
TZOFFSETFROM:-0600
TZOFFSETTO:-0500
TZNAME:CDT
DTSTART:20260308T080000
END:DAYLIGHT
BEGIN:STANDARD
TZOFFSETFROM:-0500
TZOFFSETTO:-0600
TZNAME:CST
DTSTART:20261101T070000
END:STANDARD
BEGIN:DAYLIGHT
TZOFFSETFROM:-0600
TZOFFSETTO:-0500
TZNAME:CDT
DTSTART:20270314T080000
END:DAYLIGHT
BEGIN:STANDARD
TZOFFSETFROM:-0500
TZOFFSETTO:-0600
TZNAME:CST
DTSTART:20271107T070000
END:STANDARD
BEGIN:DAYLIGHT
TZOFFSETFROM:-0600
TZOFFSETTO:-0500
TZNAME:CDT
DTSTART:20280312T080000
END:DAYLIGHT
BEGIN:STANDARD
TZOFFSETFROM:-0500
TZOFFSETTO:-0600
TZNAME:CST
DTSTART:20281105T070000
END:STANDARD
BEGIN:DAYLIGHT
TZOFFSETFROM:-0600
TZOFFSETTO:-0500
TZNAME:CDT
DTSTART:20290311T080000
END:DAYLIGHT
BEGIN:STANDARD
TZOFFSETFROM:-0500
TZOFFSETTO:-0600
TZNAME:CST
DTSTART:20291104T070000
END:STANDARD
END:VTIMEZONE
BEGIN:VEVENT
DTSTART;TZID=America/Chicago:20260520T123000
DTEND;TZID=America/Chicago:20260520T143000
DTSTAMP:20260419T120222
CREATED:20241210T181841Z
LAST-MODIFIED:20241210T181841Z
UID:<span class="kiITUW__">gro&#x2e;fthilc&#64;0047829771-0020829771-21700001</span>
SUMMARY:Social Service Agency Partnership Training
DESCRIPTION:
URL:https://clihtf.org/event/social-service-agency-partnership-training/2026-05-20/
END:VEVENT
BEGIN:VEVENT
DTSTART;TZID=America/Chicago:20260617T123000
DTEND;TZID=America/Chicago:20260617T143000
DTSTAMP:20260419T120222
CREATED:20241210T181841Z
LAST-MODIFIED:20241210T181841Z
UID:<span class="kiITUW__">gro&#x2e;fthilc&#64;0066071871-0049961871-31700001</span>
SUMMARY:Social Service Agency Partnership Training
DESCRIPTION:
URL:https://clihtf.org/event/social-service-agency-partnership-training/2026-06-17/
END:VEVENT
BEGIN:VEVENT
DTSTART;TZID=America/Chicago:20260715T123000
DTEND;TZID=America/Chicago:20260715T143000
DTSTAMP:20260419T120222
CREATED:20241210T181841Z
LAST-MODIFIED:20241210T181841Z
UID:<span class="kiITUW__">gro&#x2e;fthilc&#64;0085214871-0068114871-41700001</span>
SUMMARY:Social Service Agency Partnership Training
DESCRIPTION:
URL:https://clihtf.org/event/social-service-agency-partnership-training/2026-07-15/
END:VEVENT
BEGIN:VEVENT
DTSTART;TZID=America/Chicago:20260819T123000
DTEND;TZID=America/Chicago:20260819T143000
DTSTAMP:20260419T120222
CREATED:20241210T181841Z
LAST-MODIFIED:20241210T181841Z
UID:<span class="kiITUW__">gro&#x2e;fthilc&#64;0089417871-0062417871-51700001</span>
SUMMARY:Social Service Agency Partnership Training
DESCRIPTION:
URL:https://clihtf.org/event/social-service-agency-partnership-training/2026-08-19/
END:VEVENT
BEGIN:VEVENT
DTSTART;TZID=America/Chicago:20260916T123000
DTEND;TZID=America/Chicago:20260916T143000
DTSTAMP:20260419T120222
CREATED:20241210T181841Z
LAST-MODIFIED:20241210T181841Z
UID:<span class="kiITUW__">gro&#x2e;fthilc&#64;0009659871-0081659871-61700001</span>
SUMMARY:Social Service Agency Partnership Training
DESCRIPTION:
URL:https://clihtf.org/event/social-service-agency-partnership-training/2026-09-16/
END:VEVENT
BEGIN:VEVENT
DTSTART;TZID=America/Chicago:20261021T123000
DTEND;TZID=America/Chicago:20261021T143000
DTSTAMP:20260419T120222
CREATED:20241210T181841Z
LAST-MODIFIED:20241210T181841Z
UID:<span class="kiITUW__">gro&#x2e;fthilc&#64;0003952971-0085852971-71700001</span>
SUMMARY:Social Service Agency Partnership Training
DESCRIPTION:
URL:https://clihtf.org/event/social-service-agency-partnership-training/2026-10-21/
END:VEVENT
BEGIN:VEVENT
DTSTART;TZID=America/Chicago:20261118T123000
DTEND;TZID=America/Chicago:20261118T143000
DTSTAMP:20260419T120222
CREATED:20241210T181841Z
LAST-MODIFIED:20241210T181841Z
UID:<span class="kiITUW__">gro&#x2e;fthilc&#64;0022105971-0005005971-81700001</span>
SUMMARY:Social Service Agency Partnership Training
DESCRIPTION:
URL:https://clihtf.org/event/social-service-agency-partnership-training/2026-11-18/
END:VEVENT
BEGIN:VEVENT
DTSTART;TZID=America/Chicago:20261216T123000
DTEND;TZID=America/Chicago:20261216T143000
DTSTAMP:20260419T120222
CREATED:20241210T181841Z
LAST-MODIFIED:20241210T181841Z
UID:<span class="kiITUW__">gro&#x2e;fthilc&#64;0041347971-0024247971-91700001</span>
SUMMARY:Social Service Agency Partnership Training
DESCRIPTION:
URL:https://clihtf.org/event/social-service-agency-partnership-training/2026-12-16/
END:VEVENT
BEGIN:VEVENT
DTSTART;TZID=America/Chicago:20270120T123000
DTEND;TZID=America/Chicago:20270120T143000
DTSTAMP:20260419T120222
CREATED:20241210T181841Z
LAST-MODIFIED:20241210T181841Z
UID:<span class="kiITUW__">gro&#x2e;fthilc&#64;0045540081-0028440081-02700001</span>
SUMMARY:Social Service Agency Partnership Training
DESCRIPTION:
URL:https://clihtf.org/event/social-service-agency-partnership-training/2027-01-20/
END:VEVENT
BEGIN:VEVENT
DTSTART;TZID=America/Chicago:20270217T123000
DTEND;TZID=America/Chicago:20270217T143000
DTSTAMP:20260419T120222
CREATED:20241210T181841Z
LAST-MODIFIED:20241210T181841Z
UID:<span class="kiITUW__">gro&#x2e;fthilc&#64;0064782081-0047682081-12700001</span>
SUMMARY:Social Service Agency Partnership Training
DESCRIPTION:
URL:https://clihtf.org/event/social-service-agency-partnership-training/2027-02-17/
END:VEVENT
BEGIN:VEVENT
DTSTART;TZID=America/Chicago:20270317T123000
DTEND;TZID=America/Chicago:20270317T143000
DTSTAMP:20260419T120222
CREATED:20241210T181841Z
LAST-MODIFIED:20241210T181841Z
UID:<span class="kiITUW__">gro&#x2e;fthilc&#64;0083925081-0066825081-22700001</span>
SUMMARY:Social Service Agency Partnership Training
DESCRIPTION:
URL:https://clihtf.org/event/social-service-agency-partnership-training/2027-03-17/
END:VEVENT
BEGIN:VEVENT
DTSTART;TZID=America/Chicago:20270421T123000
DTEND;TZID=America/Chicago:20270421T143000
DTSTAMP:20260419T120222
CREATED:20241210T181841Z
LAST-MODIFIED:20241210T181841Z
UID:<span class="kiITUW__">gro&#x2e;fthilc&#64;0087138081-0060138081-32700001</span>
SUMMARY:Social Service Agency Partnership Training
DESCRIPTION:
URL:https://clihtf.org/event/social-service-agency-partnership-training/2027-04-21/
END:VEVENT
BEGIN:VEVENT
DTSTART;TZID=America/Chicago:20270519T123000
DTEND;TZID=America/Chicago:20270519T143000
DTSTAMP:20260419T120222
CREATED:20241210T181841Z
LAST-MODIFIED:20241210T181841Z
UID:<span class="kiITUW__">gro&#x2e;fthilc&#64;0007370181-0089270181-42700001</span>
SUMMARY:Social Service Agency Partnership Training
DESCRIPTION:
URL:https://clihtf.org/event/social-service-agency-partnership-training/2027-05-19/
END:VEVENT
BEGIN:VEVENT
DTSTART;TZID=America/Chicago:20270616T123000
DTEND;TZID=America/Chicago:20270616T143000
DTSTAMP:20260419T120222
CREATED:20241210T181841Z
LAST-MODIFIED:20241210T181841Z
UID:<span class="kiITUW__">gro&#x2e;fthilc&#64;0026513181-0009413181-52700001</span>
SUMMARY:Social Service Agency Partnership Training
DESCRIPTION:
URL:https://clihtf.org/event/social-service-agency-partnership-training/2027-06-16/
END:VEVENT
BEGIN:VEVENT
DTSTART;TZID=America/Chicago:20270721T123000
DTEND;TZID=America/Chicago:20270721T143000
DTSTAMP:20260419T120222
CREATED:20241210T181841Z
LAST-MODIFIED:20241210T181841Z
UID:<span class="kiITUW__">gro&#x2e;fthilc&#64;0020816181-0003716181-62700001</span>
SUMMARY:Social Service Agency Partnership Training
DESCRIPTION:
URL:https://clihtf.org/event/social-service-agency-partnership-training/2027-07-21/
END:VEVENT
BEGIN:VEVENT
DTSTART;TZID=America/Chicago:20270818T123000
DTEND;TZID=America/Chicago:20270818T143000
DTSTAMP:20260419T120222
CREATED:20241210T181841Z
LAST-MODIFIED:20241210T181841Z
UID:<span class="kiITUW__">gro&#x2e;fthilc&#64;0049958181-0022958181-72700001</span>
SUMMARY:Social Service Agency Partnership Training
DESCRIPTION:
URL:https://clihtf.org/event/social-service-agency-partnership-training/2027-08-18/
END:VEVENT
BEGIN:VEVENT
DTSTART;TZID=America/Chicago:20270915T123000
DTEND;TZID=America/Chicago:20270915T143000
DTSTAMP:20260419T120222
CREATED:20241210T181841Z
LAST-MODIFIED:20241210T181841Z
UID:<span class="kiITUW__">gro&#x2e;fthilc&#64;0068101281-0041101281-82700001</span>
SUMMARY:Social Service Agency Partnership Training
DESCRIPTION:
URL:https://clihtf.org/event/social-service-agency-partnership-training/2027-09-15/
END:VEVENT
BEGIN:VEVENT
DTSTART;TZID=America/Chicago:20271020T123000
DTEND;TZID=America/Chicago:20271020T143000
DTSTAMP:20260419T120222
CREATED:20241210T181841Z
LAST-MODIFIED:20241210T181841Z
UID:<span class="kiITUW__">gro&#x2e;fthilc&#64;0062404281-0045304281-92700001</span>
SUMMARY:Social Service Agency Partnership Training
DESCRIPTION:
URL:https://clihtf.org/event/social-service-agency-partnership-training/2027-10-20/
END:VEVENT
BEGIN:VEVENT
DTSTART;TZID=America/Chicago:20271117T123000
DTEND;TZID=America/Chicago:20271117T143000
DTSTAMP:20260419T120222
CREATED:20241210T181841Z
LAST-MODIFIED:20241210T181841Z
UID:<span class="kiITUW__">gro&#x2e;fthilc&#64;0081646281-0064546281-03700001</span>
SUMMARY:Social Service Agency Partnership Training
DESCRIPTION:
URL:https://clihtf.org/event/social-service-agency-partnership-training/2027-11-17/
END:VEVENT
BEGIN:VEVENT
DTSTART;TZID=America/Chicago:20271215T123000
DTEND;TZID=America/Chicago:20271215T143000
DTSTAMP:20260419T120222
CREATED:20241210T181841Z
LAST-MODIFIED:20241210T181841Z
UID:<span class="kiITUW__">gro&#x2e;fthilc&#64;0001888281-0083788281-13700001</span>
SUMMARY:Social Service Agency Partnership Training
DESCRIPTION:
URL:https://clihtf.org/event/social-service-agency-partnership-training/2027-12-15/
END:VEVENT
BEGIN:VEVENT
DTSTART;TZID=America/Chicago:20280119T123000
DTEND;TZID=America/Chicago:20280119T143000
DTSTAMP:20260419T120222
CREATED:20241210T181841Z
LAST-MODIFIED:20241210T181841Z
UID:<span class="kiITUW__">gro&#x2e;fthilc&#64;0005091381-0087981381-23700001</span>
SUMMARY:Social Service Agency Partnership Training
DESCRIPTION:
URL:https://clihtf.org/event/social-service-agency-partnership-training/2028-01-19/
END:VEVENT
BEGIN:VEVENT
DTSTART;TZID=America/Chicago:20280216T123000
DTEND;TZID=America/Chicago:20280216T143000
DTSTAMP:20260419T120222
CREATED:20241210T181841Z
LAST-MODIFIED:20241210T181841Z
UID:<span class="kiITUW__">gro&#x2e;fthilc&#64;0024234381-0007134381-33700001</span>
SUMMARY:Social Service Agency Partnership Training
DESCRIPTION:
URL:https://clihtf.org/event/social-service-agency-partnership-training/2028-02-16/
END:VEVENT
BEGIN:VEVENT
DTSTART;TZID=America/Chicago:20280315T123000
DTEND;TZID=America/Chicago:20280315T143000
DTSTAMP:20260419T120222
CREATED:20241210T181841Z
LAST-MODIFIED:20241210T181841Z
UID:<span class="kiITUW__">gro&#x2e;fthilc&#64;0043476381-0026376381-43700001</span>
SUMMARY:Social Service Agency Partnership Training
DESCRIPTION:
URL:https://clihtf.org/event/social-service-agency-partnership-training/2028-03-15/
END:VEVENT
BEGIN:VEVENT
DTSTART;TZID=America/Chicago:20280419T123000
DTEND;TZID=America/Chicago:20280419T143000
DTSTAMP:20260419T120222
CREATED:20241210T181841Z
LAST-MODIFIED:20241210T181841Z
UID:<span class="kiITUW__">gro&#x2e;fthilc&#64;0047679381-0020679381-53700001</span>
SUMMARY:Social Service Agency Partnership Training
DESCRIPTION:
URL:https://clihtf.org/event/social-service-agency-partnership-training/2028-04-19/
END:VEVENT
BEGIN:VEVENT
DTSTART;TZID=America/Chicago:20280517T123000
DTEND;TZID=America/Chicago:20280517T143000
DTSTAMP:20260419T120222
CREATED:20241210T181841Z
LAST-MODIFIED:20241210T181841Z
UID:<span class="kiITUW__">gro&#x2e;fthilc&#64;0066812481-0049712481-63700001</span>
SUMMARY:Social Service Agency Partnership Training
DESCRIPTION:
URL:https://clihtf.org/event/social-service-agency-partnership-training/2028-05-17/
END:VEVENT
BEGIN:VEVENT
DTSTART;TZID=America/Chicago:20280621T123000
DTEND;TZID=America/Chicago:20280621T143000
DTSTAMP:20260419T120222
CREATED:20241210T181841Z
LAST-MODIFIED:20241210T181841Z
UID:<span class="kiITUW__">gro&#x2e;fthilc&#64;0060125481-0043025481-73700001</span>
SUMMARY:Social Service Agency Partnership Training
DESCRIPTION:
URL:https://clihtf.org/event/social-service-agency-partnership-training/2028-06-21/
END:VEVENT
BEGIN:VEVENT
DTSTART;TZID=America/Chicago:20280719T123000
DTEND;TZID=America/Chicago:20280719T143000
DTSTAMP:20260419T120222
CREATED:20241210T181841Z
LAST-MODIFIED:20241210T181841Z
UID:<span class="kiITUW__">gro&#x2e;fthilc&#64;0089267481-0062267481-83700001</span>
SUMMARY:Social Service Agency Partnership Training
DESCRIPTION:
URL:https://clihtf.org/event/social-service-agency-partnership-training/2028-07-19/
END:VEVENT
BEGIN:VEVENT
DTSTART;TZID=America/Chicago:20280816T123000
DTEND;TZID=America/Chicago:20280816T143000
DTSTAMP:20260419T120222
CREATED:20241210T181841Z
LAST-MODIFIED:20241210T181841Z
UID:<span class="kiITUW__">gro&#x2e;fthilc&#64;0009400581-0081400581-93700001</span>
SUMMARY:Social Service Agency Partnership Training
DESCRIPTION:
URL:https://clihtf.org/event/social-service-agency-partnership-training/2028-08-16/
END:VEVENT
BEGIN:VEVENT
DTSTART;TZID=America/Chicago:20280920T123000
DTEND;TZID=America/Chicago:20280920T143000
DTSTAMP:20260419T120222
CREATED:20241210T181841Z
LAST-MODIFIED:20241210T181841Z
UID:<span class="kiITUW__">gro&#x2e;fthilc&#64;0003703581-0085603581-04700001</span>
SUMMARY:Social Service Agency Partnership Training
DESCRIPTION:
URL:https://clihtf.org/event/social-service-agency-partnership-training/2028-09-20/
END:VEVENT
BEGIN:VEVENT
DTSTART;TZID=America/Chicago:20281018T123000
DTEND;TZID=America/Chicago:20281018T143000
DTSTAMP:20260419T120222
CREATED:20241210T181841Z
LAST-MODIFIED:20241210T181841Z
UID:<span class="kiITUW__">gro&#x2e;fthilc&#64;0022945581-0005845581-14700001</span>
SUMMARY:Social Service Agency Partnership Training
DESCRIPTION:
URL:https://clihtf.org/event/social-service-agency-partnership-training/2028-10-18/
END:VEVENT
END:VCALENDAR