BEGIN:VCALENDAR
VERSION:2.0
PRODID:-//CLIHTF - ECPv6.15.20//NONSGML v1.0//EN
CALSCALE:GREGORIAN
METHOD:PUBLISH
X-WR-CALNAME:CLIHTF
X-ORIGINAL-URL:https://clihtf.org
X-WR-CALDESC:Events for CLIHTF
REFRESH-INTERVAL;VALUE=DURATION:PT1H
X-Robots-Tag:noindex
X-PUBLISHED-TTL:PT1H
BEGIN:VTIMEZONE
TZID:America/Chicago
BEGIN:DAYLIGHT
TZOFFSETFROM:-0600
TZOFFSETTO:-0500
TZNAME:CDT
DTSTART:20250309T080000
END:DAYLIGHT
BEGIN:STANDARD
TZOFFSETFROM:-0500
TZOFFSETTO:-0600
TZNAME:CST
DTSTART:20251102T070000
END:STANDARD
BEGIN:DAYLIGHT
TZOFFSETFROM:-0600
TZOFFSETTO:-0500
TZNAME:CDT
DTSTART:20260308T080000
END:DAYLIGHT
BEGIN:STANDARD
TZOFFSETFROM:-0500
TZOFFSETTO:-0600
TZNAME:CST
DTSTART:20261101T070000
END:STANDARD
BEGIN:DAYLIGHT
TZOFFSETFROM:-0600
TZOFFSETTO:-0500
TZNAME:CDT
DTSTART:20270314T080000
END:DAYLIGHT
BEGIN:STANDARD
TZOFFSETFROM:-0500
TZOFFSETTO:-0600
TZNAME:CST
DTSTART:20271107T070000
END:STANDARD
BEGIN:DAYLIGHT
TZOFFSETFROM:-0600
TZOFFSETTO:-0500
TZNAME:CDT
DTSTART:20280312T080000
END:DAYLIGHT
BEGIN:STANDARD
TZOFFSETFROM:-0500
TZOFFSETTO:-0600
TZNAME:CST
DTSTART:20281105T070000
END:STANDARD
END:VTIMEZONE
BEGIN:VEVENT
DTSTART;TZID=America/Chicago:20260428T123000
DTEND;TZID=America/Chicago:20260428T133000
DTSTAMP:20260419T120243
CREATED:20241210T180305Z
LAST-MODIFIED:20241210T180305Z
UID:<span class="zSERX2_u1XKeZlortK6_">gro&#x2e;fthilc&#64;0003837771-0049737771-04300001</span>
SUMMARY:Trust Fund Central Introductory Training Session
DESCRIPTION:
URL:https://clihtf.org/event/trust-fund-central-introductory-training-session/2026-04-28/
END:VEVENT
BEGIN:VEVENT
DTSTART;TZID=America/Chicago:20260512T123000
DTEND;TZID=America/Chicago:20260512T133000
DTSTAMP:20260419T120243
CREATED:20241210T180305Z
LAST-MODIFIED:20241210T180305Z
UID:<span class="zSERX2_u1XKeZlortK6_">gro&#x2e;fthilc&#64;0062958771-0009858771-14300001</span>
SUMMARY:Trust Fund Central Introductory Training Session
DESCRIPTION:
URL:https://clihtf.org/event/trust-fund-central-introductory-training-session/2026-05-12/
END:VEVENT
BEGIN:VEVENT
DTSTART;TZID=America/Chicago:20260526T123000
DTEND;TZID=America/Chicago:20260526T133000
DTSTAMP:20260419T120243
CREATED:20241210T180305Z
LAST-MODIFIED:20241210T180305Z
UID:<span class="zSERX2_u1XKeZlortK6_">gro&#x2e;fthilc&#64;0022089771-0068979771-24300001</span>
SUMMARY:Trust Fund Central Introductory Training Session
DESCRIPTION:
URL:https://clihtf.org/event/trust-fund-central-introductory-training-session/2026-05-26/
END:VEVENT
BEGIN:VEVENT
DTSTART;TZID=America/Chicago:20260609T123000
DTEND;TZID=America/Chicago:20260609T133000
DTSTAMP:20260419T120243
CREATED:20241210T180305Z
LAST-MODIFIED:20241210T180305Z
UID:<span class="zSERX2_u1XKeZlortK6_">gro&#x2e;fthilc&#64;0081101871-0028001871-34300001</span>
SUMMARY:Trust Fund Central Introductory Training Session
DESCRIPTION:
URL:https://clihtf.org/event/trust-fund-central-introductory-training-session/2026-06-09/
END:VEVENT
BEGIN:VEVENT
DTSTART;TZID=America/Chicago:20260623T123000
DTEND;TZID=America/Chicago:20260623T133000
DTSTAMP:20260419T120243
CREATED:20241210T180305Z
LAST-MODIFIED:20241210T180305Z
UID:<span class="zSERX2_u1XKeZlortK6_">gro&#x2e;fthilc&#64;0041222871-0087122871-44300001</span>
SUMMARY:Trust Fund Central Introductory Training Session
DESCRIPTION:
URL:https://clihtf.org/event/trust-fund-central-introductory-training-session/2026-06-23/
END:VEVENT
BEGIN:VEVENT
DTSTART;TZID=America/Chicago:20260707T123000
DTEND;TZID=America/Chicago:20260707T133000
DTSTAMP:20260419T120243
CREATED:20241210T180305Z
LAST-MODIFIED:20241210T180305Z
UID:<span class="zSERX2_u1XKeZlortK6_">gro&#x2e;fthilc&#64;0001343871-0047243871-54300001</span>
SUMMARY:Trust Fund Central Introductory Training Session
DESCRIPTION:
URL:https://clihtf.org/event/trust-fund-central-introductory-training-session/2026-07-07/
END:VEVENT
BEGIN:VEVENT
DTSTART;TZID=America/Chicago:20260721T123000
DTEND;TZID=America/Chicago:20260721T133000
DTSTAMP:20260419T120243
CREATED:20241210T180305Z
LAST-MODIFIED:20241210T180305Z
UID:<span class="zSERX2_u1XKeZlortK6_">gro&#x2e;fthilc&#64;0060464871-0007364871-64300001</span>
SUMMARY:Trust Fund Central Introductory Training Session
DESCRIPTION:
URL:https://clihtf.org/event/trust-fund-central-introductory-training-session/2026-07-21/
END:VEVENT
BEGIN:VEVENT
DTSTART;TZID=America/Chicago:20260804T123000
DTEND;TZID=America/Chicago:20260804T133000
DTSTAMP:20260419T120243
CREATED:20241210T180305Z
LAST-MODIFIED:20241210T180305Z
UID:<span class="zSERX2_u1XKeZlortK6_">gro&#x2e;fthilc&#64;0020585871-0066485871-74300001</span>
SUMMARY:Trust Fund Central Introductory Training Session
DESCRIPTION:
URL:https://clihtf.org/event/trust-fund-central-introductory-training-session/2026-08-04/
END:VEVENT
BEGIN:VEVENT
DTSTART;TZID=America/Chicago:20260818T123000
DTEND;TZID=America/Chicago:20260818T133000
DTSTAMP:20260419T120243
CREATED:20241210T180305Z
LAST-MODIFIED:20241210T180305Z
UID:<span class="zSERX2_u1XKeZlortK6_">gro&#x2e;fthilc&#64;0089507871-0026507871-84300001</span>
SUMMARY:Trust Fund Central Introductory Training Session
DESCRIPTION:
URL:https://clihtf.org/event/trust-fund-central-introductory-training-session/2026-08-18/
END:VEVENT
BEGIN:VEVENT
DTSTART;TZID=America/Chicago:20260901T123000
DTEND;TZID=America/Chicago:20260901T133000
DTSTAMP:20260419T120243
CREATED:20241210T180305Z
LAST-MODIFIED:20241210T180305Z
UID:<span class="zSERX2_u1XKeZlortK6_">gro&#x2e;fthilc&#64;0049628871-0085628871-94300001</span>
SUMMARY:Trust Fund Central Introductory Training Session
DESCRIPTION:
URL:https://clihtf.org/event/trust-fund-central-introductory-training-session/2026-09-01/
END:VEVENT
BEGIN:VEVENT
DTSTART;TZID=America/Chicago:20260915T123000
DTEND;TZID=America/Chicago:20260915T133000
DTSTAMP:20260419T120243
CREATED:20241210T180305Z
LAST-MODIFIED:20241210T180305Z
UID:<span class="zSERX2_u1XKeZlortK6_">gro&#x2e;fthilc&#64;0009749871-0045749871-05300001</span>
SUMMARY:Trust Fund Central Introductory Training Session
DESCRIPTION:
URL:https://clihtf.org/event/trust-fund-central-introductory-training-session/2026-09-15/
END:VEVENT
BEGIN:VEVENT
DTSTART;TZID=America/Chicago:20260929T123000
DTEND;TZID=America/Chicago:20260929T133000
DTSTAMP:20260419T120243
CREATED:20241210T180305Z
LAST-MODIFIED:20241210T180305Z
UID:<span class="zSERX2_u1XKeZlortK6_">gro&#x2e;fthilc&#64;0068860971-0005860971-15300001</span>
SUMMARY:Trust Fund Central Introductory Training Session
DESCRIPTION:
URL:https://clihtf.org/event/trust-fund-central-introductory-training-session/2026-09-29/
END:VEVENT
BEGIN:VEVENT
DTSTART;TZID=America/Chicago:20261013T123000
DTEND;TZID=America/Chicago:20261013T133000
DTSTAMP:20260419T120243
CREATED:20241210T180305Z
LAST-MODIFIED:20241210T180305Z
UID:<span class="zSERX2_u1XKeZlortK6_">gro&#x2e;fthilc&#64;0028981971-0064981971-25300001</span>
SUMMARY:Trust Fund Central Introductory Training Session
DESCRIPTION:
URL:https://clihtf.org/event/trust-fund-central-introductory-training-session/2026-10-13/
END:VEVENT
BEGIN:VEVENT
DTSTART;TZID=America/Chicago:20261027T123000
DTEND;TZID=America/Chicago:20261027T133000
DTSTAMP:20260419T120243
CREATED:20241210T180305Z
LAST-MODIFIED:20241210T180305Z
UID:<span class="zSERX2_u1XKeZlortK6_">gro&#x2e;fthilc&#64;0087013971-0024013971-35300001</span>
SUMMARY:Trust Fund Central Introductory Training Session
DESCRIPTION:
URL:https://clihtf.org/event/trust-fund-central-introductory-training-session/2026-10-27/
END:VEVENT
BEGIN:VEVENT
DTSTART;TZID=America/Chicago:20261110T123000
DTEND;TZID=America/Chicago:20261110T133000
DTSTAMP:20260419T120243
CREATED:20241210T180305Z
LAST-MODIFIED:20241210T180305Z
UID:<span class="zSERX2_u1XKeZlortK6_">gro&#x2e;fthilc&#64;0047134971-0083134971-45300001</span>
SUMMARY:Trust Fund Central Introductory Training Session
DESCRIPTION:
URL:https://clihtf.org/event/trust-fund-central-introductory-training-session/2026-11-10/
END:VEVENT
BEGIN:VEVENT
DTSTART;TZID=America/Chicago:20261124T123000
DTEND;TZID=America/Chicago:20261124T133000
DTSTAMP:20260419T120243
CREATED:20241210T180305Z
LAST-MODIFIED:20241210T180305Z
UID:<span class="zSERX2_u1XKeZlortK6_">gro&#x2e;fthilc&#64;0007255971-0043255971-55300001</span>
SUMMARY:Trust Fund Central Introductory Training Session
DESCRIPTION:
URL:https://clihtf.org/event/trust-fund-central-introductory-training-session/2026-11-24/
END:VEVENT
BEGIN:VEVENT
DTSTART;TZID=America/Chicago:20261208T123000
DTEND;TZID=America/Chicago:20261208T133000
DTSTAMP:20260419T120243
CREATED:20241210T180305Z
LAST-MODIFIED:20241210T180305Z
UID:<span class="zSERX2_u1XKeZlortK6_">gro&#x2e;fthilc&#64;0066376971-0003376971-65300001</span>
SUMMARY:Trust Fund Central Introductory Training Session
DESCRIPTION:
URL:https://clihtf.org/event/trust-fund-central-introductory-training-session/2026-12-08/
END:VEVENT
BEGIN:VEVENT
DTSTART;TZID=America/Chicago:20261222T123000
DTEND;TZID=America/Chicago:20261222T133000
DTSTAMP:20260419T120243
CREATED:20241210T180305Z
LAST-MODIFIED:20241210T180305Z
UID:<span class="zSERX2_u1XKeZlortK6_">gro&#x2e;fthilc&#64;0026497971-0062497971-75300001</span>
SUMMARY:Trust Fund Central Introductory Training Session
DESCRIPTION:
URL:https://clihtf.org/event/trust-fund-central-introductory-training-session/2026-12-22/
END:VEVENT
BEGIN:VEVENT
DTSTART;TZID=America/Chicago:20270105T123000
DTEND;TZID=America/Chicago:20270105T133000
DTSTAMP:20260419T120243
CREATED:20241210T180305Z
LAST-MODIFIED:20241210T180305Z
UID:<span class="zSERX2_u1XKeZlortK6_">gro&#x2e;fthilc&#64;0085519971-0022519971-85300001</span>
SUMMARY:Trust Fund Central Introductory Training Session
DESCRIPTION:
URL:https://clihtf.org/event/trust-fund-central-introductory-training-session/2027-01-05/
END:VEVENT
BEGIN:VEVENT
DTSTART;TZID=America/Chicago:20270119T123000
DTEND;TZID=America/Chicago:20270119T133000
DTSTAMP:20260419T120243
CREATED:20241210T180305Z
LAST-MODIFIED:20241210T180305Z
UID:<span class="zSERX2_u1XKeZlortK6_">gro&#x2e;fthilc&#64;0045630081-0081630081-95300001</span>
SUMMARY:Trust Fund Central Introductory Training Session
DESCRIPTION:
URL:https://clihtf.org/event/trust-fund-central-introductory-training-session/2027-01-19/
END:VEVENT
BEGIN:VEVENT
DTSTART;TZID=America/Chicago:20270202T123000
DTEND;TZID=America/Chicago:20270202T133000
DTSTAMP:20260419T120243
CREATED:20241210T180305Z
LAST-MODIFIED:20241210T180305Z
UID:<span class="zSERX2_u1XKeZlortK6_">gro&#x2e;fthilc&#64;0005751081-0041751081-06300001</span>
SUMMARY:Trust Fund Central Introductory Training Session
DESCRIPTION:
URL:https://clihtf.org/event/trust-fund-central-introductory-training-session/2027-02-02/
END:VEVENT
BEGIN:VEVENT
DTSTART;TZID=America/Chicago:20270216T123000
DTEND;TZID=America/Chicago:20270216T133000
DTSTAMP:20260419T120243
CREATED:20241210T180305Z
LAST-MODIFIED:20241210T180305Z
UID:<span class="zSERX2_u1XKeZlortK6_">gro&#x2e;fthilc&#64;0064872081-0001872081-16300001</span>
SUMMARY:Trust Fund Central Introductory Training Session
DESCRIPTION:
URL:https://clihtf.org/event/trust-fund-central-introductory-training-session/2027-02-16/
END:VEVENT
BEGIN:VEVENT
DTSTART;TZID=America/Chicago:20270302T123000
DTEND;TZID=America/Chicago:20270302T133000
DTSTAMP:20260419T120243
CREATED:20241210T180305Z
LAST-MODIFIED:20241210T180305Z
UID:<span class="zSERX2_u1XKeZlortK6_">gro&#x2e;fthilc&#64;0024993081-0060993081-26300001</span>
SUMMARY:Trust Fund Central Introductory Training Session
DESCRIPTION:
URL:https://clihtf.org/event/trust-fund-central-introductory-training-session/2027-03-02/
END:VEVENT
BEGIN:VEVENT
DTSTART;TZID=America/Chicago:20270316T123000
DTEND;TZID=America/Chicago:20270316T133000
DTSTAMP:20260419T120243
CREATED:20241210T180305Z
LAST-MODIFIED:20241210T180305Z
UID:<span class="zSERX2_u1XKeZlortK6_">gro&#x2e;fthilc&#64;0083025081-0020025081-36300001</span>
SUMMARY:Trust Fund Central Introductory Training Session
DESCRIPTION:
URL:https://clihtf.org/event/trust-fund-central-introductory-training-session/2027-03-16/
END:VEVENT
BEGIN:VEVENT
DTSTART;TZID=America/Chicago:20270330T123000
DTEND;TZID=America/Chicago:20270330T133000
DTSTAMP:20260419T120243
CREATED:20241210T180305Z
LAST-MODIFIED:20241210T180305Z
UID:<span class="zSERX2_u1XKeZlortK6_">gro&#x2e;fthilc&#64;0043146081-0089046081-46300001</span>
SUMMARY:Trust Fund Central Introductory Training Session
DESCRIPTION:
URL:https://clihtf.org/event/trust-fund-central-introductory-training-session/2027-03-30/
END:VEVENT
BEGIN:VEVENT
DTSTART;TZID=America/Chicago:20270413T123000
DTEND;TZID=America/Chicago:20270413T133000
DTSTAMP:20260419T120243
CREATED:20241210T180305Z
LAST-MODIFIED:20241210T180305Z
UID:<span class="zSERX2_u1XKeZlortK6_">gro&#x2e;fthilc&#64;0003267081-0049167081-56300001</span>
SUMMARY:Trust Fund Central Introductory Training Session
DESCRIPTION:
URL:https://clihtf.org/event/trust-fund-central-introductory-training-session/2027-04-13/
END:VEVENT
BEGIN:VEVENT
DTSTART;TZID=America/Chicago:20270427T123000
DTEND;TZID=America/Chicago:20270427T133000
DTSTAMP:20260419T120243
CREATED:20241210T180305Z
LAST-MODIFIED:20241210T180305Z
UID:<span class="zSERX2_u1XKeZlortK6_">gro&#x2e;fthilc&#64;0062388081-0009288081-66300001</span>
SUMMARY:Trust Fund Central Introductory Training Session
DESCRIPTION:
URL:https://clihtf.org/event/trust-fund-central-introductory-training-session/2027-04-27/
END:VEVENT
BEGIN:VEVENT
DTSTART;TZID=America/Chicago:20270511T123000
DTEND;TZID=America/Chicago:20270511T133000
DTSTAMP:20260419T120243
CREATED:20241210T180305Z
LAST-MODIFIED:20241210T180305Z
UID:<span class="zSERX2_u1XKeZlortK6_">gro&#x2e;fthilc&#64;0022400181-0068300181-76300001</span>
SUMMARY:Trust Fund Central Introductory Training Session
DESCRIPTION:
URL:https://clihtf.org/event/trust-fund-central-introductory-training-session/2027-05-11/
END:VEVENT
BEGIN:VEVENT
DTSTART;TZID=America/Chicago:20270525T123000
DTEND;TZID=America/Chicago:20270525T133000
DTSTAMP:20260419T120243
CREATED:20241210T180305Z
LAST-MODIFIED:20241210T180305Z
UID:<span class="zSERX2_u1XKeZlortK6_">gro&#x2e;fthilc&#64;0081521181-0028421181-86300001</span>
SUMMARY:Trust Fund Central Introductory Training Session
DESCRIPTION:
URL:https://clihtf.org/event/trust-fund-central-introductory-training-session/2027-05-25/
END:VEVENT
BEGIN:VEVENT
DTSTART;TZID=America/Chicago:20270608T123000
DTEND;TZID=America/Chicago:20270608T133000
DTSTAMP:20260419T120243
CREATED:20241210T180305Z
LAST-MODIFIED:20241210T180305Z
UID:<span class="zSERX2_u1XKeZlortK6_">gro&#x2e;fthilc&#64;0041642181-0087542181-96300001</span>
SUMMARY:Trust Fund Central Introductory Training Session
DESCRIPTION:
URL:https://clihtf.org/event/trust-fund-central-introductory-training-session/2027-06-08/
END:VEVENT
END:VCALENDAR