BEGIN:VCALENDAR
VERSION:2.0
PRODID:-//CLIHTF - ECPv6.15.20//NONSGML v1.0//EN
CALSCALE:GREGORIAN
METHOD:PUBLISH
X-WR-CALNAME:CLIHTF
X-ORIGINAL-URL:https://clihtf.org
X-WR-CALDESC:Events for CLIHTF
REFRESH-INTERVAL;VALUE=DURATION:PT1H
X-Robots-Tag:noindex
X-PUBLISHED-TTL:PT1H
BEGIN:VTIMEZONE
TZID:America/Chicago
BEGIN:DAYLIGHT
TZOFFSETFROM:-0600
TZOFFSETTO:-0500
TZNAME:CDT
DTSTART:20260308T080000
END:DAYLIGHT
BEGIN:STANDARD
TZOFFSETFROM:-0500
TZOFFSETTO:-0600
TZNAME:CST
DTSTART:20261101T070000
END:STANDARD
BEGIN:DAYLIGHT
TZOFFSETFROM:-0600
TZOFFSETTO:-0500
TZNAME:CDT
DTSTART:20270314T080000
END:DAYLIGHT
BEGIN:STANDARD
TZOFFSETFROM:-0500
TZOFFSETTO:-0600
TZNAME:CST
DTSTART:20271107T070000
END:STANDARD
BEGIN:DAYLIGHT
TZOFFSETFROM:-0600
TZOFFSETTO:-0500
TZNAME:CDT
DTSTART:20280312T080000
END:DAYLIGHT
BEGIN:STANDARD
TZOFFSETFROM:-0500
TZOFFSETTO:-0600
TZNAME:CST
DTSTART:20281105T070000
END:STANDARD
END:VTIMEZONE
BEGIN:VTIMEZONE
TZID:UTC
BEGIN:STANDARD
TZOFFSETFROM:+0000
TZOFFSETTO:+0000
TZNAME:UTC
DTSTART:20260101T000000
END:STANDARD
END:VTIMEZONE
BEGIN:VEVENT
DTSTART;TZID=America/Chicago:20270302T123000
DTEND;TZID=America/Chicago:20270302T133000
DTSTAMP:20260425T091255
CREATED:20241210T180305Z
LAST-MODIFIED:20241210T180305Z
UID:10000362-1803990600-1803994200@clihtf.org
SUMMARY:Trust Fund Central Introductory Training Session
DESCRIPTION:
URL:https://clihtf.org/event/trust-fund-central-introductory-training-session/2027-03-02/
END:VEVENT
BEGIN:VEVENT
DTSTART;VALUE=DATE:20270303
DTEND;VALUE=DATE:20270304
DTSTAMP:20260425T091255
CREATED:20230731T203806Z
LAST-MODIFIED:20230731T203807Z
UID:10000190-1804032000-1804118399@clihtf.org
SUMMARY:Administrative Day
DESCRIPTION:Office Closed
URL:https://clihtf.org/event/administrative-day-2-2/2027-03-03/
CATEGORIES:Administrative Day
END:VEVENT
BEGIN:VEVENT
DTSTART;TZID=America/Chicago:20270309T123000
DTEND;TZID=America/Chicago:20270309T140000
DTSTAMP:20260425T091255
CREATED:20241210T180734Z
LAST-MODIFIED:20241210T180734Z
UID:10000493-1804595400-1804600800@clihtf.org
SUMMARY:How to Complete Rental Subsidy Program Annual Agreement/ CLIHTF 2024 Policy and Procedure
DESCRIPTION:
URL:https://clihtf.org/event/how-to-complete-rental-subsidy-program-annual-agreement-clihtf-2024-policy-and-procedure/2027-03-09/
END:VEVENT
BEGIN:VEVENT
DTSTART;VALUE=DATE:20270310
DTEND;VALUE=DATE:20270311
DTSTAMP:20260425T091255
CREATED:20230731T203806Z
LAST-MODIFIED:20230731T203807Z
UID:10000191-1804636800-1804723199@clihtf.org
SUMMARY:Administrative Day
DESCRIPTION:Office Closed
URL:https://clihtf.org/event/administrative-day-2-2/2027-03-10/
CATEGORIES:Administrative Day
END:VEVENT
BEGIN:VEVENT
DTSTART;TZID=America/Chicago:20270311T173000
DTEND;TZID=America/Chicago:20270311T193000
DTSTAMP:20260425T091255
CREATED:20241210T181459Z
LAST-MODIFIED:20241210T181557Z
UID:10000623-1804786200-1804793400@clihtf.org
SUMMARY:Trust Fund Central Introductory Training Session (Evening)
DESCRIPTION:
URL:https://clihtf.org/event/trust-fund-central-introductory-training-session-evening/2027-03-11/
END:VEVENT
BEGIN:VEVENT
DTSTART;TZID=America/Chicago:20270316T123000
DTEND;TZID=America/Chicago:20270316T133000
DTSTAMP:20260425T091255
CREATED:20241210T180305Z
LAST-MODIFIED:20241210T180305Z
UID:10000363-1805200200-1805203800@clihtf.org
SUMMARY:Trust Fund Central Introductory Training Session
DESCRIPTION:
URL:https://clihtf.org/event/trust-fund-central-introductory-training-session/2027-03-16/
END:VEVENT
BEGIN:VEVENT
DTSTART;VALUE=DATE:20270317
DTEND;VALUE=DATE:20270318
DTSTAMP:20260425T091255
CREATED:20230731T203806Z
LAST-MODIFIED:20230731T203807Z
UID:10000192-1805241600-1805327999@clihtf.org
SUMMARY:Administrative Day
DESCRIPTION:Office Closed
URL:https://clihtf.org/event/administrative-day-2-2/2027-03-17/
CATEGORIES:Administrative Day
END:VEVENT
BEGIN:VEVENT
DTSTART;TZID=America/Chicago:20270317T123000
DTEND;TZID=America/Chicago:20270317T143000
DTSTAMP:20260425T091255
CREATED:20241210T181841Z
LAST-MODIFIED:20241210T181841Z
UID:10000722-1805286600-1805293800@clihtf.org
SUMMARY:Social Service Agency Partnership Training
DESCRIPTION:
URL:https://clihtf.org/event/social-service-agency-partnership-training/2027-03-17/
END:VEVENT
BEGIN:VEVENT
DTSTART;TZID=America/Chicago:20270323T123000
DTEND;TZID=America/Chicago:20270323T140000
DTSTAMP:20260425T091255
CREATED:20241210T180734Z
LAST-MODIFIED:20241210T180734Z
UID:10000494-1805805000-1805810400@clihtf.org
SUMMARY:How to Complete Rental Subsidy Program Annual Agreement/ CLIHTF 2024 Policy and Procedure
DESCRIPTION:
URL:https://clihtf.org/event/how-to-complete-rental-subsidy-program-annual-agreement-clihtf-2024-policy-and-procedure/2027-03-23/
END:VEVENT
BEGIN:VEVENT
DTSTART;VALUE=DATE:20270324
DTEND;VALUE=DATE:20270325
DTSTAMP:20260425T091255
CREATED:20230731T203806Z
LAST-MODIFIED:20230731T203807Z
UID:10000193-1805846400-1805932799@clihtf.org
SUMMARY:Administrative Day
DESCRIPTION:Office Closed
URL:https://clihtf.org/event/administrative-day-2-2/2027-03-24/
CATEGORIES:Administrative Day
END:VEVENT
BEGIN:VEVENT
DTSTART;TZID=America/Chicago:20270325T173000
DTEND;TZID=America/Chicago:20270325T193000
DTSTAMP:20260425T091255
CREATED:20241210T181459Z
LAST-MODIFIED:20241210T181557Z
UID:10000624-1805995800-1806003000@clihtf.org
SUMMARY:Trust Fund Central Introductory Training Session (Evening)
DESCRIPTION:
URL:https://clihtf.org/event/trust-fund-central-introductory-training-session-evening/2027-03-25/
END:VEVENT
BEGIN:VEVENT
DTSTART;TZID=America/Chicago:20270330T123000
DTEND;TZID=America/Chicago:20270330T133000
DTSTAMP:20260425T091255
CREATED:20241210T180305Z
LAST-MODIFIED:20241210T180305Z
UID:10000364-1806409800-1806413400@clihtf.org
SUMMARY:Trust Fund Central Introductory Training Session
DESCRIPTION:
URL:https://clihtf.org/event/trust-fund-central-introductory-training-session/2027-03-30/
END:VEVENT
BEGIN:VEVENT
DTSTART;VALUE=DATE:20270331
DTEND;VALUE=DATE:20270401
DTSTAMP:20260425T091255
CREATED:20230731T203806Z
LAST-MODIFIED:20230731T203807Z
UID:10000194-1806451200-1806537599@clihtf.org
SUMMARY:Administrative Day
DESCRIPTION:Office Closed
URL:https://clihtf.org/event/administrative-day-2-2/2027-03-31/
CATEGORIES:Administrative Day
END:VEVENT
END:VCALENDAR