BEGIN:VCALENDAR
VERSION:2.0
PRODID:-//CLIHTF - ECPv6.15.20//NONSGML v1.0//EN
CALSCALE:GREGORIAN
METHOD:PUBLISH
X-WR-CALNAME:CLIHTF
X-ORIGINAL-URL:https://clihtf.org
X-WR-CALDESC:Events for CLIHTF
REFRESH-INTERVAL;VALUE=DURATION:PT1H
X-Robots-Tag:noindex
X-PUBLISHED-TTL:PT1H
BEGIN:VTIMEZONE
TZID:America/Chicago
BEGIN:DAYLIGHT
TZOFFSETFROM:-0600
TZOFFSETTO:-0500
TZNAME:CDT
DTSTART:20250309T080000
END:DAYLIGHT
BEGIN:STANDARD
TZOFFSETFROM:-0500
TZOFFSETTO:-0600
TZNAME:CST
DTSTART:20251102T070000
END:STANDARD
BEGIN:DAYLIGHT
TZOFFSETFROM:-0600
TZOFFSETTO:-0500
TZNAME:CDT
DTSTART:20260308T080000
END:DAYLIGHT
BEGIN:STANDARD
TZOFFSETFROM:-0500
TZOFFSETTO:-0600
TZNAME:CST
DTSTART:20261101T070000
END:STANDARD
BEGIN:DAYLIGHT
TZOFFSETFROM:-0600
TZOFFSETTO:-0500
TZNAME:CDT
DTSTART:20270314T080000
END:DAYLIGHT
BEGIN:STANDARD
TZOFFSETFROM:-0500
TZOFFSETTO:-0600
TZNAME:CST
DTSTART:20271107T070000
END:STANDARD
END:VTIMEZONE
BEGIN:VTIMEZONE
TZID:UTC
BEGIN:STANDARD
TZOFFSETFROM:+0000
TZOFFSETTO:+0000
TZNAME:UTC
DTSTART:20250101T000000
END:STANDARD
END:VTIMEZONE
BEGIN:VEVENT
DTSTART;TZID=America/Chicago:20260707T123000
DTEND;TZID=America/Chicago:20260707T133000
DTSTAMP:20260422T172441
CREATED:20241210T180305Z
LAST-MODIFIED:20241210T180305Z
UID:10000345-1783427400-1783431000@clihtf.org
SUMMARY:Trust Fund Central Introductory Training Session
DESCRIPTION:
URL:https://clihtf.org/event/trust-fund-central-introductory-training-session/2026-07-07/
END:VEVENT
BEGIN:VEVENT
DTSTART;TZID=America/Chicago:20260702T173000
DTEND;TZID=America/Chicago:20260702T193000
DTSTAMP:20260422T172441
CREATED:20241210T181459Z
LAST-MODIFIED:20241210T181557Z
UID:10000605-1783013400-1783020600@clihtf.org
SUMMARY:Trust Fund Central Introductory Training Session (Evening)
DESCRIPTION:
URL:https://clihtf.org/event/trust-fund-central-introductory-training-session-evening/2026-07-02/
END:VEVENT
BEGIN:VEVENT
DTSTART;VALUE=DATE:20260701
DTEND;VALUE=DATE:20260702
DTSTAMP:20260422T172441
CREATED:20230731T203806Z
LAST-MODIFIED:20230731T203807Z
UID:10000155-1782864000-1782950399@clihtf.org
SUMMARY:Administrative Day
DESCRIPTION:Office Closed
URL:https://clihtf.org/event/administrative-day-2-2/2026-07-01/
CATEGORIES:Administrative Day
END:VEVENT
BEGIN:VEVENT
DTSTART;TZID=America/Chicago:20260630T123000
DTEND;TZID=America/Chicago:20260630T140000
DTSTAMP:20260422T172441
CREATED:20241210T180734Z
LAST-MODIFIED:20241210T180734Z
UID:10000475-1782822600-1782828000@clihtf.org
SUMMARY:How to Complete Rental Subsidy Program Annual Agreement/ CLIHTF 2024 Policy and Procedure
DESCRIPTION:
URL:https://clihtf.org/event/how-to-complete-rental-subsidy-program-annual-agreement-clihtf-2024-policy-and-procedure/2026-06-30/
END:VEVENT
BEGIN:VEVENT
DTSTART;VALUE=DATE:20260624
DTEND;VALUE=DATE:20260625
DTSTAMP:20260422T172441
CREATED:20230731T203806Z
LAST-MODIFIED:20230731T203807Z
UID:10000154-1782259200-1782345599@clihtf.org
SUMMARY:Administrative Day
DESCRIPTION:Office Closed
URL:https://clihtf.org/event/administrative-day-2-2/2026-06-24/
CATEGORIES:Administrative Day
END:VEVENT
BEGIN:VEVENT
DTSTART;TZID=America/Chicago:20260623T123000
DTEND;TZID=America/Chicago:20260623T133000
DTSTAMP:20260422T172441
CREATED:20241210T180305Z
LAST-MODIFIED:20241210T180305Z
UID:10000344-1782217800-1782221400@clihtf.org
SUMMARY:Trust Fund Central Introductory Training Session
DESCRIPTION:
URL:https://clihtf.org/event/trust-fund-central-introductory-training-session/2026-06-23/
END:VEVENT
BEGIN:VEVENT
DTSTART;TZID=America/Chicago:20260618T173000
DTEND;TZID=America/Chicago:20260618T193000
DTSTAMP:20260422T172441
CREATED:20241210T181459Z
LAST-MODIFIED:20241210T181557Z
UID:10000604-1781803800-1781811000@clihtf.org
SUMMARY:Trust Fund Central Introductory Training Session (Evening)
DESCRIPTION:
URL:https://clihtf.org/event/trust-fund-central-introductory-training-session-evening/2026-06-18/
END:VEVENT
BEGIN:VEVENT
DTSTART;TZID=America/Chicago:20260617T123000
DTEND;TZID=America/Chicago:20260617T143000
DTSTAMP:20260422T172441
CREATED:20241210T181841Z
LAST-MODIFIED:20241210T181841Z
UID:10000713-1781699400-1781706600@clihtf.org
SUMMARY:Social Service Agency Partnership Training
DESCRIPTION:
URL:https://clihtf.org/event/social-service-agency-partnership-training/2026-06-17/
END:VEVENT
BEGIN:VEVENT
DTSTART;VALUE=DATE:20260617
DTEND;VALUE=DATE:20260618
DTSTAMP:20260422T172441
CREATED:20230731T203806Z
LAST-MODIFIED:20230731T203807Z
UID:10000153-1781654400-1781740799@clihtf.org
SUMMARY:Administrative Day
DESCRIPTION:Office Closed
URL:https://clihtf.org/event/administrative-day-2-2/2026-06-17/
CATEGORIES:Administrative Day
END:VEVENT
BEGIN:VEVENT
DTSTART;TZID=America/Chicago:20260616T123000
DTEND;TZID=America/Chicago:20260616T140000
DTSTAMP:20260422T172441
CREATED:20241210T180734Z
LAST-MODIFIED:20241210T180734Z
UID:10000474-1781613000-1781618400@clihtf.org
SUMMARY:How to Complete Rental Subsidy Program Annual Agreement/ CLIHTF 2024 Policy and Procedure
DESCRIPTION:
URL:https://clihtf.org/event/how-to-complete-rental-subsidy-program-annual-agreement-clihtf-2024-policy-and-procedure/2026-06-16/
END:VEVENT
BEGIN:VEVENT
DTSTART;TZID=America/Chicago:20260611T083000
DTEND;TZID=America/Chicago:20260611T103000
DTSTAMP:20260422T172441
CREATED:20260107T191349Z
LAST-MODIFIED:20260205T162946Z
UID:10000856-1781166600-1781173800@clihtf.org
SUMMARY:Outreach Meeting
DESCRIPTION:
URL:https://clihtf.org/event/outreach-meeting-10/2026-06-11/
CATEGORIES:Administrative Day
END:VEVENT
BEGIN:VEVENT
DTSTART;VALUE=DATE:20260610
DTEND;VALUE=DATE:20260611
DTSTAMP:20260422T172441
CREATED:20230731T203806Z
LAST-MODIFIED:20230731T203807Z
UID:10000152-1781049600-1781135999@clihtf.org
SUMMARY:Administrative Day
DESCRIPTION:Office Closed
URL:https://clihtf.org/event/administrative-day-2-2/2026-06-10/
CATEGORIES:Administrative Day
END:VEVENT
BEGIN:VEVENT
DTSTART;TZID=America/Chicago:20260609T123000
DTEND;TZID=America/Chicago:20260609T133000
DTSTAMP:20260422T172441
CREATED:20241210T180305Z
LAST-MODIFIED:20241210T180305Z
UID:10000343-1781008200-1781011800@clihtf.org
SUMMARY:Trust Fund Central Introductory Training Session
DESCRIPTION:
URL:https://clihtf.org/event/trust-fund-central-introductory-training-session/2026-06-09/
END:VEVENT
BEGIN:VEVENT
DTSTART;TZID=America/Chicago:20260609T083000
DTEND;TZID=America/Chicago:20260609T103000
DTSTAMP:20260422T172441
CREATED:20260106T172501Z
LAST-MODIFIED:20260109T172654Z
UID:10000834-1780993800-1781001000@clihtf.org
SUMMARY:Board Meeting
DESCRIPTION:Join an online meeting
URL:https://clihtf.org/event/board-meeting-11/2026-06-09/
CATEGORIES:Administrative Day,Board Meetings
END:VEVENT
BEGIN:VEVENT
DTSTART;TZID=America/Chicago:20260608T150000
DTEND;TZID=America/Chicago:20260608T163000
DTSTAMP:20260422T172441
CREATED:20260112T154939Z
LAST-MODIFIED:20260112T154939Z
UID:10000862-1780930800-1780936200@clihtf.org
SUMMARY:Finance Meeting
DESCRIPTION:
URL:https://clihtf.org/event/finance-meeting-16/
CATEGORIES:Administrative Day
END:VEVENT
BEGIN:VEVENT
DTSTART;TZID=America/Chicago:20260604T173000
DTEND;TZID=America/Chicago:20260604T193000
DTSTAMP:20260422T172441
CREATED:20241210T181459Z
LAST-MODIFIED:20241210T181557Z
UID:10000603-1780594200-1780601400@clihtf.org
SUMMARY:Trust Fund Central Introductory Training Session (Evening)
DESCRIPTION:
URL:https://clihtf.org/event/trust-fund-central-introductory-training-session-evening/2026-06-04/
END:VEVENT
BEGIN:VEVENT
DTSTART;VALUE=DATE:20260603
DTEND;VALUE=DATE:20260604
DTSTAMP:20260422T172441
CREATED:20230731T203806Z
LAST-MODIFIED:20230731T203807Z
UID:10000151-1780444800-1780531199@clihtf.org
SUMMARY:Administrative Day
DESCRIPTION:Office Closed
URL:https://clihtf.org/event/administrative-day-2-2/2026-06-03/
CATEGORIES:Administrative Day
END:VEVENT
BEGIN:VEVENT
DTSTART;TZID=America/Chicago:20260602T140000
DTEND;TZID=America/Chicago:20260602T150000
DTSTAMP:20260422T172441
CREATED:20260109T174013Z
LAST-MODIFIED:20260109T174542Z
UID:10000845-1780408800-1780412400@clihtf.org
SUMMARY:Allocations Meeting
DESCRIPTION:
URL:https://clihtf.org/event/allocations-meeting-14/2026-06-02/
CATEGORIES:Administrative Day
END:VEVENT
BEGIN:VEVENT
DTSTART;TZID=America/Chicago:20260602T123000
DTEND;TZID=America/Chicago:20260602T140000
DTSTAMP:20260422T172441
CREATED:20241210T180734Z
LAST-MODIFIED:20241210T180734Z
UID:10000473-1780403400-1780408800@clihtf.org
SUMMARY:How to Complete Rental Subsidy Program Annual Agreement/ CLIHTF 2024 Policy and Procedure
DESCRIPTION:
URL:https://clihtf.org/event/how-to-complete-rental-subsidy-program-annual-agreement-clihtf-2024-policy-and-procedure/2026-06-02/
END:VEVENT
BEGIN:VEVENT
DTSTART;VALUE=DATE:20260527
DTEND;VALUE=DATE:20260528
DTSTAMP:20260422T172441
CREATED:20230731T203806Z
LAST-MODIFIED:20230731T203807Z
UID:10000150-1779840000-1779926399@clihtf.org
SUMMARY:Administrative Day
DESCRIPTION:Office Closed
URL:https://clihtf.org/event/administrative-day-2-2/2026-05-27/
CATEGORIES:Administrative Day
END:VEVENT
BEGIN:VEVENT
DTSTART;TZID=America/Chicago:20260526T123000
DTEND;TZID=America/Chicago:20260526T133000
DTSTAMP:20260422T172441
CREATED:20241210T180305Z
LAST-MODIFIED:20241210T180305Z
UID:10000342-1779798600-1779802200@clihtf.org
SUMMARY:Trust Fund Central Introductory Training Session
DESCRIPTION:
URL:https://clihtf.org/event/trust-fund-central-introductory-training-session/2026-05-26/
END:VEVENT
BEGIN:VEVENT
DTSTART;TZID=America/Chicago:20260521T173000
DTEND;TZID=America/Chicago:20260521T193000
DTSTAMP:20260422T172441
CREATED:20241210T181459Z
LAST-MODIFIED:20241210T181557Z
UID:10000602-1779384600-1779391800@clihtf.org
SUMMARY:Trust Fund Central Introductory Training Session (Evening)
DESCRIPTION:
URL:https://clihtf.org/event/trust-fund-central-introductory-training-session-evening/2026-05-21/
END:VEVENT
BEGIN:VEVENT
DTSTART;TZID=America/Chicago:20260520T123000
DTEND;TZID=America/Chicago:20260520T143000
DTSTAMP:20260422T172441
CREATED:20241210T181841Z
LAST-MODIFIED:20241210T181841Z
UID:10000712-1779280200-1779287400@clihtf.org
SUMMARY:Social Service Agency Partnership Training
DESCRIPTION:
URL:https://clihtf.org/event/social-service-agency-partnership-training/2026-05-20/
END:VEVENT
BEGIN:VEVENT
DTSTART;VALUE=DATE:20260520
DTEND;VALUE=DATE:20260521
DTSTAMP:20260422T172441
CREATED:20230731T203806Z
LAST-MODIFIED:20230731T203807Z
UID:10000149-1779235200-1779321599@clihtf.org
SUMMARY:Administrative Day
DESCRIPTION:Office Closed
URL:https://clihtf.org/event/administrative-day-2-2/2026-05-20/
CATEGORIES:Administrative Day
END:VEVENT
BEGIN:VEVENT
DTSTART;TZID=America/Chicago:20260519T123000
DTEND;TZID=America/Chicago:20260519T140000
DTSTAMP:20260422T172441
CREATED:20241210T180734Z
LAST-MODIFIED:20241210T180734Z
UID:10000472-1779193800-1779199200@clihtf.org
SUMMARY:How to Complete Rental Subsidy Program Annual Agreement/ CLIHTF 2024 Policy and Procedure
DESCRIPTION:
URL:https://clihtf.org/event/how-to-complete-rental-subsidy-program-annual-agreement-clihtf-2024-policy-and-procedure/2026-05-19/
END:VEVENT
BEGIN:VEVENT
DTSTART;TZID=America/Chicago:20260514T083000
DTEND;TZID=America/Chicago:20260514T103000
DTSTAMP:20260422T172441
CREATED:20260422T200604Z
LAST-MODIFIED:20260422T200644Z
UID:10000855-1778747400-1778754600@clihtf.org
SUMMARY:Outreach Meeting
DESCRIPTION:
URL:https://clihtf.org/event/outreach-meeting-10-2/
CATEGORIES:Administrative Day
END:VEVENT
BEGIN:VEVENT
DTSTART;VALUE=DATE:20260513
DTEND;VALUE=DATE:20260514
DTSTAMP:20260422T172441
CREATED:20230731T203806Z
LAST-MODIFIED:20230731T203807Z
UID:10000148-1778630400-1778716799@clihtf.org
SUMMARY:Administrative Day
DESCRIPTION:Office Closed
URL:https://clihtf.org/event/administrative-day-2-2/2026-05-13/
CATEGORIES:Administrative Day
END:VEVENT
BEGIN:VEVENT
DTSTART;TZID=America/Chicago:20260512T123000
DTEND;TZID=America/Chicago:20260512T133000
DTSTAMP:20260422T172441
CREATED:20241210T180305Z
LAST-MODIFIED:20241210T180305Z
UID:10000341-1778589000-1778592600@clihtf.org
SUMMARY:Trust Fund Central Introductory Training Session
DESCRIPTION:
URL:https://clihtf.org/event/trust-fund-central-introductory-training-session/2026-05-12/
END:VEVENT
BEGIN:VEVENT
DTSTART;TZID=America/Chicago:20260512T083000
DTEND;TZID=America/Chicago:20260512T103000
DTSTAMP:20260422T172441
CREATED:20260422T195905Z
LAST-MODIFIED:20260422T201142Z
UID:10000833-1778574600-1778581800@clihtf.org
SUMMARY:Board Meeting
DESCRIPTION:https://zoom.us/j/91791528363?pwd=iIeQPQMSmUqormRo1eyArjo7QWLL05.1
URL:https://clihtf.org/event/board-meeting-11-3/
CATEGORIES:Administrative Day,Board Meetings
END:VEVENT
BEGIN:VEVENT
DTSTART;TZID=America/Chicago:20260507T173000
DTEND;TZID=America/Chicago:20260507T193000
DTSTAMP:20260422T172441
CREATED:20241210T181459Z
LAST-MODIFIED:20241210T181557Z
UID:10000601-1778175000-1778182200@clihtf.org
SUMMARY:Trust Fund Central Introductory Training Session (Evening)
DESCRIPTION:
URL:https://clihtf.org/event/trust-fund-central-introductory-training-session-evening/2026-05-07/
END:VEVENT
END:VCALENDAR