BEGIN:VCALENDAR
VERSION:2.0
PRODID:-//CLIHTF - ECPv6.15.20//NONSGML v1.0//EN
CALSCALE:GREGORIAN
METHOD:PUBLISH
X-WR-CALNAME:CLIHTF
X-ORIGINAL-URL:https://clihtf.org
X-WR-CALDESC:Events for CLIHTF
REFRESH-INTERVAL;VALUE=DURATION:PT1H
X-Robots-Tag:noindex
X-PUBLISHED-TTL:PT1H
BEGIN:VTIMEZONE
TZID:America/Chicago
BEGIN:DAYLIGHT
TZOFFSETFROM:-0600
TZOFFSETTO:-0500
TZNAME:CDT
DTSTART:20250309T080000
END:DAYLIGHT
BEGIN:STANDARD
TZOFFSETFROM:-0500
TZOFFSETTO:-0600
TZNAME:CST
DTSTART:20251102T070000
END:STANDARD
BEGIN:DAYLIGHT
TZOFFSETFROM:-0600
TZOFFSETTO:-0500
TZNAME:CDT
DTSTART:20260308T080000
END:DAYLIGHT
BEGIN:STANDARD
TZOFFSETFROM:-0500
TZOFFSETTO:-0600
TZNAME:CST
DTSTART:20261101T070000
END:STANDARD
BEGIN:DAYLIGHT
TZOFFSETFROM:-0600
TZOFFSETTO:-0500
TZNAME:CDT
DTSTART:20270314T080000
END:DAYLIGHT
BEGIN:STANDARD
TZOFFSETFROM:-0500
TZOFFSETTO:-0600
TZNAME:CST
DTSTART:20271107T070000
END:STANDARD
END:VTIMEZONE
BEGIN:VTIMEZONE
TZID:UTC
BEGIN:STANDARD
TZOFFSETFROM:+0000
TZOFFSETTO:+0000
TZNAME:UTC
DTSTART:20250101T000000
END:STANDARD
END:VTIMEZONE
BEGIN:VEVENT
DTSTART;TZID=America/Chicago:20260414T083000
DTEND;TZID=America/Chicago:20260414T103000
DTSTAMP:20260421T125557
CREATED:20260106T172501Z
LAST-MODIFIED:20260109T172654Z
UID:10000832-1776155400-1776162600@clihtf.org
SUMMARY:Board Meeting
DESCRIPTION:Join an online meeting
URL:https://clihtf.org/event/board-meeting-11/2026-04-14/
CATEGORIES:Administrative Day,Board Meetings
END:VEVENT
BEGIN:VEVENT
DTSTART;TZID=America/Chicago:20260409T173000
DTEND;TZID=America/Chicago:20260409T193000
DTSTAMP:20260421T125557
CREATED:20241210T181459Z
LAST-MODIFIED:20241210T181557Z
UID:10000599-1775755800-1775763000@clihtf.org
SUMMARY:Trust Fund Central Introductory Training Session (Evening)
DESCRIPTION:
URL:https://clihtf.org/event/trust-fund-central-introductory-training-session-evening/2026-04-09/
END:VEVENT
BEGIN:VEVENT
DTSTART;TZID=America/Chicago:20260409T150000
DTEND;TZID=America/Chicago:20260409T160000
DTSTAMP:20260421T125557
CREATED:20260107T192936Z
LAST-MODIFIED:20260107T192936Z
UID:10000827-1775746800-1775750400@clihtf.org
SUMMARY:Finance Meeting
DESCRIPTION:
URL:https://clihtf.org/event/finance-meeting-14/
CATEGORIES:Administrative Day
END:VEVENT
BEGIN:VEVENT
DTSTART;VALUE=DATE:20260408
DTEND;VALUE=DATE:20260409
DTSTAMP:20260421T125557
CREATED:20230731T203806Z
LAST-MODIFIED:20230731T203807Z
UID:10000143-1775606400-1775692799@clihtf.org
SUMMARY:Administrative Day
DESCRIPTION:Office Closed
URL:https://clihtf.org/event/administrative-day-2-2/2026-04-08/
CATEGORIES:Administrative Day
END:VEVENT
BEGIN:VEVENT
DTSTART;TZID=America/Chicago:20260407T140000
DTEND;TZID=America/Chicago:20260407T150000
DTSTAMP:20260421T125557
CREATED:20260109T174013Z
LAST-MODIFIED:20260109T174542Z
UID:10000843-1775570400-1775574000@clihtf.org
SUMMARY:Allocations Meeting
DESCRIPTION:
URL:https://clihtf.org/event/allocations-meeting-14/2026-04-07/
CATEGORIES:Administrative Day
END:VEVENT
BEGIN:VEVENT
DTSTART;TZID=America/Chicago:20260407T123000
DTEND;TZID=America/Chicago:20260407T140000
DTSTAMP:20260421T125557
CREATED:20241210T180734Z
LAST-MODIFIED:20241210T180734Z
UID:10000469-1775565000-1775570400@clihtf.org
SUMMARY:How to Complete Rental Subsidy Program Annual Agreement/ CLIHTF 2024 Policy and Procedure
DESCRIPTION:
URL:https://clihtf.org/event/how-to-complete-rental-subsidy-program-annual-agreement-clihtf-2024-policy-and-procedure/2026-04-07/
END:VEVENT
BEGIN:VEVENT
DTSTART;VALUE=DATE:20260401
DTEND;VALUE=DATE:20260402
DTSTAMP:20260421T125557
CREATED:20230731T203806Z
LAST-MODIFIED:20230731T203807Z
UID:10000142-1775001600-1775087999@clihtf.org
SUMMARY:Administrative Day
DESCRIPTION:Office Closed
URL:https://clihtf.org/event/administrative-day-2-2/2026-04-01/
CATEGORIES:Administrative Day
END:VEVENT
BEGIN:VEVENT
DTSTART;TZID=America/Chicago:20260331T123000
DTEND;TZID=America/Chicago:20260331T133000
DTSTAMP:20260421T125557
CREATED:20241210T180305Z
LAST-MODIFIED:20241210T180305Z
UID:10000338-1774960200-1774963800@clihtf.org
SUMMARY:Trust Fund Central Introductory Training Session
DESCRIPTION:
URL:https://clihtf.org/event/trust-fund-central-introductory-training-session/2026-03-31/
END:VEVENT
BEGIN:VEVENT
DTSTART;TZID=America/Chicago:20260326T173000
DTEND;TZID=America/Chicago:20260326T193000
DTSTAMP:20260421T125557
CREATED:20241210T181459Z
LAST-MODIFIED:20241210T181557Z
UID:10000598-1774546200-1774553400@clihtf.org
SUMMARY:Trust Fund Central Introductory Training Session (Evening)
DESCRIPTION:
URL:https://clihtf.org/event/trust-fund-central-introductory-training-session-evening/2026-03-26/
END:VEVENT
BEGIN:VEVENT
DTSTART;VALUE=DATE:20260325
DTEND;VALUE=DATE:20260326
DTSTAMP:20260421T125557
CREATED:20230731T203806Z
LAST-MODIFIED:20230731T203807Z
UID:10000141-1774396800-1774483199@clihtf.org
SUMMARY:Administrative Day
DESCRIPTION:Office Closed
URL:https://clihtf.org/event/administrative-day-2-2/2026-03-25/
CATEGORIES:Administrative Day
END:VEVENT
BEGIN:VEVENT
DTSTART;TZID=America/Chicago:20260324T123000
DTEND;TZID=America/Chicago:20260324T140000
DTSTAMP:20260421T125557
CREATED:20241210T180734Z
LAST-MODIFIED:20241210T180734Z
UID:10000468-1774355400-1774360800@clihtf.org
SUMMARY:How to Complete Rental Subsidy Program Annual Agreement/ CLIHTF 2024 Policy and Procedure
DESCRIPTION:
URL:https://clihtf.org/event/how-to-complete-rental-subsidy-program-annual-agreement-clihtf-2024-policy-and-procedure/2026-03-24/
END:VEVENT
BEGIN:VEVENT
DTSTART;TZID=America/Chicago:20260318T123000
DTEND;TZID=America/Chicago:20260318T143000
DTSTAMP:20260421T125557
CREATED:20241210T181841Z
LAST-MODIFIED:20241210T181841Z
UID:10000710-1773837000-1773844200@clihtf.org
SUMMARY:Social Service Agency Partnership Training
DESCRIPTION:
URL:https://clihtf.org/event/social-service-agency-partnership-training/2026-03-18/
END:VEVENT
BEGIN:VEVENT
DTSTART;VALUE=DATE:20260318
DTEND;VALUE=DATE:20260319
DTSTAMP:20260421T125557
CREATED:20230731T203806Z
LAST-MODIFIED:20230731T203807Z
UID:10000140-1773792000-1773878399@clihtf.org
SUMMARY:Administrative Day
DESCRIPTION:Office Closed
URL:https://clihtf.org/event/administrative-day-2-2/2026-03-18/
CATEGORIES:Administrative Day
END:VEVENT
BEGIN:VEVENT
DTSTART;TZID=America/Chicago:20260317T123000
DTEND;TZID=America/Chicago:20260317T133000
DTSTAMP:20260421T125557
CREATED:20241210T180305Z
LAST-MODIFIED:20241210T180305Z
UID:10000337-1773750600-1773754200@clihtf.org
SUMMARY:Trust Fund Central Introductory Training Session
DESCRIPTION:
URL:https://clihtf.org/event/trust-fund-central-introductory-training-session/2026-03-17/
END:VEVENT
BEGIN:VEVENT
DTSTART;TZID=America/Chicago:20260312T173000
DTEND;TZID=America/Chicago:20260312T193000
DTSTAMP:20260421T125557
CREATED:20241210T181459Z
LAST-MODIFIED:20241210T181557Z
UID:10000597-1773336600-1773343800@clihtf.org
SUMMARY:Trust Fund Central Introductory Training Session (Evening)
DESCRIPTION:
URL:https://clihtf.org/event/trust-fund-central-introductory-training-session-evening/2026-03-12/
END:VEVENT
BEGIN:VEVENT
DTSTART;TZID=America/Chicago:20260312T083000
DTEND;TZID=America/Chicago:20260312T103000
DTSTAMP:20260421T125557
CREATED:20260107T191349Z
LAST-MODIFIED:20260205T162946Z
UID:10000854-1773304200-1773311400@clihtf.org
SUMMARY:Outreach Meeting
DESCRIPTION:
URL:https://clihtf.org/event/outreach-meeting-10/2026-03-12/
CATEGORIES:Administrative Day
END:VEVENT
BEGIN:VEVENT
DTSTART;VALUE=DATE:20260311
DTEND;VALUE=DATE:20260312
DTSTAMP:20260421T125557
CREATED:20230731T203806Z
LAST-MODIFIED:20230731T203807Z
UID:10000139-1773187200-1773273599@clihtf.org
SUMMARY:Administrative Day
DESCRIPTION:Office Closed
URL:https://clihtf.org/event/administrative-day-2-2/2026-03-11/
CATEGORIES:Administrative Day
END:VEVENT
BEGIN:VEVENT
DTSTART;TZID=America/Chicago:20260310T123000
DTEND;TZID=America/Chicago:20260310T140000
DTSTAMP:20260421T125557
CREATED:20241210T180734Z
LAST-MODIFIED:20241210T180734Z
UID:10000467-1773145800-1773151200@clihtf.org
SUMMARY:How to Complete Rental Subsidy Program Annual Agreement/ CLIHTF 2024 Policy and Procedure
DESCRIPTION:
URL:https://clihtf.org/event/how-to-complete-rental-subsidy-program-annual-agreement-clihtf-2024-policy-and-procedure/2026-03-10/
END:VEVENT
BEGIN:VEVENT
DTSTART;TZID=America/Chicago:20260310T083000
DTEND;TZID=America/Chicago:20260310T103000
DTSTAMP:20260421T125557
CREATED:20260106T172501Z
LAST-MODIFIED:20260109T172654Z
UID:10000831-1773131400-1773138600@clihtf.org
SUMMARY:Board Meeting
DESCRIPTION:Join an online meeting
URL:https://clihtf.org/event/board-meeting-11/2026-03-10/
CATEGORIES:Administrative Day,Board Meetings
END:VEVENT
BEGIN:VEVENT
DTSTART;TZID=America/Chicago:20260309T150000
DTEND;TZID=America/Chicago:20260309T160000
DTSTAMP:20260421T125557
CREATED:20260107T192439Z
LAST-MODIFIED:20260107T192439Z
UID:10000823-1773068400-1773072000@clihtf.org
SUMMARY:Finance Meeting
DESCRIPTION:
URL:https://clihtf.org/event/finance-meeting-13/
CATEGORIES:Administrative Day
END:VEVENT
BEGIN:VEVENT
DTSTART;VALUE=DATE:20260304
DTEND;VALUE=DATE:20260305
DTSTAMP:20260421T125557
CREATED:20230731T203806Z
LAST-MODIFIED:20230731T203807Z
UID:10000138-1772582400-1772668799@clihtf.org
SUMMARY:Administrative Day
DESCRIPTION:Office Closed
URL:https://clihtf.org/event/administrative-day-2-2/2026-03-04/
CATEGORIES:Administrative Day
END:VEVENT
BEGIN:VEVENT
DTSTART;TZID=America/Chicago:20260303T140000
DTEND;TZID=America/Chicago:20260303T150000
DTSTAMP:20260421T125557
CREATED:20260109T174013Z
LAST-MODIFIED:20260109T174542Z
UID:10000842-1772546400-1772550000@clihtf.org
SUMMARY:Allocations Meeting
DESCRIPTION:
URL:https://clihtf.org/event/allocations-meeting-14/2026-03-03/
CATEGORIES:Administrative Day
END:VEVENT
BEGIN:VEVENT
DTSTART;TZID=America/Chicago:20260303T123000
DTEND;TZID=America/Chicago:20260303T133000
DTSTAMP:20260421T125557
CREATED:20241210T180305Z
LAST-MODIFIED:20241210T180305Z
UID:10000336-1772541000-1772544600@clihtf.org
SUMMARY:Trust Fund Central Introductory Training Session
DESCRIPTION:
URL:https://clihtf.org/event/trust-fund-central-introductory-training-session/2026-03-03/
END:VEVENT
BEGIN:VEVENT
DTSTART;TZID=America/Chicago:20260226T173000
DTEND;TZID=America/Chicago:20260226T193000
DTSTAMP:20260421T125557
CREATED:20241210T181459Z
LAST-MODIFIED:20241210T181557Z
UID:10000596-1772127000-1772134200@clihtf.org
SUMMARY:Trust Fund Central Introductory Training Session (Evening)
DESCRIPTION:
URL:https://clihtf.org/event/trust-fund-central-introductory-training-session-evening/2026-02-26/
END:VEVENT
BEGIN:VEVENT
DTSTART;VALUE=DATE:20260225
DTEND;VALUE=DATE:20260226
DTSTAMP:20260421T125557
CREATED:20230731T203806Z
LAST-MODIFIED:20230731T203807Z
UID:10000137-1771977600-1772063999@clihtf.org
SUMMARY:Administrative Day
DESCRIPTION:Office Closed
URL:https://clihtf.org/event/administrative-day-2-2/2026-02-25/
CATEGORIES:Administrative Day
END:VEVENT
BEGIN:VEVENT
DTSTART;TZID=America/Chicago:20260224T123000
DTEND;TZID=America/Chicago:20260224T140000
DTSTAMP:20260421T125557
CREATED:20241210T180734Z
LAST-MODIFIED:20241210T180734Z
UID:10000466-1771936200-1771941600@clihtf.org
SUMMARY:How to Complete Rental Subsidy Program Annual Agreement/ CLIHTF 2024 Policy and Procedure
DESCRIPTION:
URL:https://clihtf.org/event/how-to-complete-rental-subsidy-program-annual-agreement-clihtf-2024-policy-and-procedure/2026-02-24/
END:VEVENT
BEGIN:VEVENT
DTSTART;TZID=America/Chicago:20260218T123000
DTEND;TZID=America/Chicago:20260218T143000
DTSTAMP:20260421T125557
CREATED:20241210T181841Z
LAST-MODIFIED:20241210T181841Z
UID:10000709-1771417800-1771425000@clihtf.org
SUMMARY:Social Service Agency Partnership Training
DESCRIPTION:
URL:https://clihtf.org/event/social-service-agency-partnership-training/2026-02-18/
END:VEVENT
BEGIN:VEVENT
DTSTART;VALUE=DATE:20260218
DTEND;VALUE=DATE:20260219
DTSTAMP:20260421T125557
CREATED:20230731T203806Z
LAST-MODIFIED:20230731T203807Z
UID:10000136-1771372800-1771459199@clihtf.org
SUMMARY:Administrative Day
DESCRIPTION:Office Closed
URL:https://clihtf.org/event/administrative-day-2-2/2026-02-18/
CATEGORIES:Administrative Day
END:VEVENT
BEGIN:VEVENT
DTSTART;TZID=America/Chicago:20260217T123000
DTEND;TZID=America/Chicago:20260217T133000
DTSTAMP:20260421T125557
CREATED:20241210T180305Z
LAST-MODIFIED:20241210T180305Z
UID:10000335-1771331400-1771335000@clihtf.org
SUMMARY:Trust Fund Central Introductory Training Session
DESCRIPTION:
URL:https://clihtf.org/event/trust-fund-central-introductory-training-session/2026-02-17/
END:VEVENT
BEGIN:VEVENT
DTSTART;VALUE=DATE:20260211
DTEND;VALUE=DATE:20260212
DTSTAMP:20260421T125557
CREATED:20230731T203806Z
LAST-MODIFIED:20230731T203807Z
UID:10000135-1770768000-1770854399@clihtf.org
SUMMARY:Administrative Day
DESCRIPTION:Office Closed
URL:https://clihtf.org/event/administrative-day-2-2/2026-02-11/
CATEGORIES:Administrative Day
END:VEVENT
END:VCALENDAR