BEGIN:VCALENDAR
VERSION:2.0
PRODID:-//CLIHTF - ECPv6.15.20//NONSGML v1.0//EN
CALSCALE:GREGORIAN
METHOD:PUBLISH
X-WR-CALNAME:CLIHTF
X-ORIGINAL-URL:https://clihtf.org
X-WR-CALDESC:Events for CLIHTF
REFRESH-INTERVAL;VALUE=DURATION:PT1H
X-Robots-Tag:noindex
X-PUBLISHED-TTL:PT1H
BEGIN:VTIMEZONE
TZID:UTC
BEGIN:STANDARD
TZOFFSETFROM:+0000
TZOFFSETTO:+0000
TZNAME:UTC
DTSTART:20240101T000000
END:STANDARD
END:VTIMEZONE
BEGIN:VTIMEZONE
TZID:America/Chicago
BEGIN:DAYLIGHT
TZOFFSETFROM:-0600
TZOFFSETTO:-0500
TZNAME:CDT
DTSTART:20240310T080000
END:DAYLIGHT
BEGIN:STANDARD
TZOFFSETFROM:-0500
TZOFFSETTO:-0600
TZNAME:CST
DTSTART:20241103T070000
END:STANDARD
BEGIN:DAYLIGHT
TZOFFSETFROM:-0600
TZOFFSETTO:-0500
TZNAME:CDT
DTSTART:20250309T080000
END:DAYLIGHT
BEGIN:STANDARD
TZOFFSETFROM:-0500
TZOFFSETTO:-0600
TZNAME:CST
DTSTART:20251102T070000
END:STANDARD
BEGIN:DAYLIGHT
TZOFFSETFROM:-0600
TZOFFSETTO:-0500
TZNAME:CDT
DTSTART:20260308T080000
END:DAYLIGHT
BEGIN:STANDARD
TZOFFSETFROM:-0500
TZOFFSETTO:-0600
TZNAME:CST
DTSTART:20261101T070000
END:STANDARD
END:VTIMEZONE
BEGIN:VEVENT
DTSTART;VALUE=DATE:20251210
DTEND;VALUE=DATE:20251211
DTSTAMP:20260422T220319
CREATED:20230731T203806Z
LAST-MODIFIED:20230731T203807Z
UID:10000126-1765324800-1765411199@clihtf.org
SUMMARY:Administrative Day
DESCRIPTION:Office Closed
URL:https://clihtf.org/event/administrative-day-2-2/2025-12-10/
CATEGORIES:Administrative Day
END:VEVENT
BEGIN:VEVENT
DTSTART;TZID=America/Chicago:20251209T123000
DTEND;TZID=America/Chicago:20251209T133000
DTSTAMP:20260422T220319
CREATED:20241210T180305Z
LAST-MODIFIED:20241210T180305Z
UID:10000330-1765283400-1765287000@clihtf.org
SUMMARY:Trust Fund Central Introductory Training Session
DESCRIPTION:
URL:https://clihtf.org/event/trust-fund-central-introductory-training-session/2025-12-09/
END:VEVENT
BEGIN:VEVENT
DTSTART;TZID=America/Chicago:20251209T083000
DTEND;TZID=America/Chicago:20251209T093000
DTSTAMP:20260422T220319
CREATED:20250821T151804Z
LAST-MODIFIED:20251008T210638Z
UID:10000812-1765269000-1765272600@clihtf.org
SUMMARY:Board Meeting
DESCRIPTION:
URL:https://clihtf.org/event/executive-committee-meeting-board-meeting-2/
CATEGORIES:Administrative Day,Board Meetings
END:VEVENT
BEGIN:VEVENT
DTSTART;TZID=America/Chicago:20251204T173000
DTEND;TZID=America/Chicago:20251204T193000
DTSTAMP:20260422T220319
CREATED:20241210T181459Z
LAST-MODIFIED:20241210T181557Z
UID:10000590-1764869400-1764876600@clihtf.org
SUMMARY:Trust Fund Central Introductory Training Session (Evening)
DESCRIPTION:
URL:https://clihtf.org/event/trust-fund-central-introductory-training-session-evening/2025-12-04/
END:VEVENT
BEGIN:VEVENT
DTSTART;TZID=America/Chicago:20251204T153000
DTEND;TZID=America/Chicago:20251204T163000
DTSTAMP:20260422T220319
CREATED:20250821T151541Z
LAST-MODIFIED:20250821T151541Z
UID:10000810-1764862200-1764865800@clihtf.org
SUMMARY:Finance Committee
DESCRIPTION:
URL:https://clihtf.org/event/finance-committee-9/
CATEGORIES:Administrative Day
END:VEVENT
BEGIN:VEVENT
DTSTART;VALUE=DATE:20251203
DTEND;VALUE=DATE:20251204
DTSTAMP:20260422T220319
CREATED:20230731T203806Z
LAST-MODIFIED:20230731T203807Z
UID:10000125-1764720000-1764806399@clihtf.org
SUMMARY:Administrative Day
DESCRIPTION:Office Closed
URL:https://clihtf.org/event/administrative-day-2-2/2025-12-03/
CATEGORIES:Administrative Day
END:VEVENT
BEGIN:VEVENT
DTSTART;TZID=America/Chicago:20251202T140000
DTEND;TZID=America/Chicago:20251202T150000
DTSTAMP:20260422T220319
CREATED:20250821T151406Z
LAST-MODIFIED:20250821T151406Z
UID:10000809-1764684000-1764687600@clihtf.org
SUMMARY:Allocations Committee
DESCRIPTION:
URL:https://clihtf.org/event/allocations-committee-9/
CATEGORIES:Administrative Day
END:VEVENT
BEGIN:VEVENT
DTSTART;TZID=America/Chicago:20251202T123000
DTEND;TZID=America/Chicago:20251202T140000
DTSTAMP:20260422T220319
CREATED:20241210T180734Z
LAST-MODIFIED:20241210T180734Z
UID:10000460-1764678600-1764684000@clihtf.org
SUMMARY:How to Complete Rental Subsidy Program Annual Agreement/ CLIHTF 2024 Policy and Procedure
DESCRIPTION:
URL:https://clihtf.org/event/how-to-complete-rental-subsidy-program-annual-agreement-clihtf-2024-policy-and-procedure/2025-12-02/
END:VEVENT
BEGIN:VEVENT
DTSTART;VALUE=DATE:20251127
DTEND;VALUE=DATE:20251128
DTSTAMP:20260422T220319
CREATED:20241216T170502Z
LAST-MODIFIED:20241216T170502Z
UID:10000766-1764201600-1764287999@clihtf.org
SUMMARY:Thanksgiving Day
DESCRIPTION:Office Closed
URL:https://clihtf.org/event/thanksgiving-day/
CATEGORIES:Administrative Day
END:VEVENT
BEGIN:VEVENT
DTSTART;VALUE=DATE:20251126
DTEND;VALUE=DATE:20251127
DTSTAMP:20260422T220319
CREATED:20230731T203806Z
LAST-MODIFIED:20230731T203807Z
UID:10000124-1764115200-1764201599@clihtf.org
SUMMARY:Administrative Day
DESCRIPTION:Office Closed
URL:https://clihtf.org/event/administrative-day-2-2/2025-11-26/
CATEGORIES:Administrative Day
END:VEVENT
BEGIN:VEVENT
DTSTART;TZID=America/Chicago:20251125T123000
DTEND;TZID=America/Chicago:20251125T133000
DTSTAMP:20260422T220319
CREATED:20241210T180305Z
LAST-MODIFIED:20241210T180305Z
UID:10000329-1764073800-1764077400@clihtf.org
SUMMARY:Trust Fund Central Introductory Training Session
DESCRIPTION:
URL:https://clihtf.org/event/trust-fund-central-introductory-training-session/2025-11-25/
END:VEVENT
BEGIN:VEVENT
DTSTART;TZID=America/Chicago:20251120T173000
DTEND;TZID=America/Chicago:20251120T193000
DTSTAMP:20260422T220319
CREATED:20241210T181459Z
LAST-MODIFIED:20241210T181557Z
UID:10000589-1763659800-1763667000@clihtf.org
SUMMARY:Trust Fund Central Introductory Training Session (Evening)
DESCRIPTION:
URL:https://clihtf.org/event/trust-fund-central-introductory-training-session-evening/2025-11-20/
END:VEVENT
BEGIN:VEVENT
DTSTART;TZID=America/Chicago:20251119T123000
DTEND;TZID=America/Chicago:20251119T143000
DTSTAMP:20260422T220319
CREATED:20241210T181841Z
LAST-MODIFIED:20241210T181841Z
UID:10000706-1763555400-1763562600@clihtf.org
SUMMARY:Social Service Agency Partnership Training
DESCRIPTION:
URL:https://clihtf.org/event/social-service-agency-partnership-training/2025-11-19/
END:VEVENT
BEGIN:VEVENT
DTSTART;VALUE=DATE:20251119
DTEND;VALUE=DATE:20251120
DTSTAMP:20260422T220319
CREATED:20230731T203806Z
LAST-MODIFIED:20230731T203807Z
UID:10000123-1763510400-1763596799@clihtf.org
SUMMARY:Administrative Day
DESCRIPTION:Office Closed
URL:https://clihtf.org/event/administrative-day-2-2/2025-11-19/
CATEGORIES:Administrative Day
END:VEVENT
BEGIN:VEVENT
DTSTART;TZID=America/Chicago:20251118T123000
DTEND;TZID=America/Chicago:20251118T140000
DTSTAMP:20260422T220319
CREATED:20241210T180734Z
LAST-MODIFIED:20241210T180734Z
UID:10000459-1763469000-1763474400@clihtf.org
SUMMARY:How to Complete Rental Subsidy Program Annual Agreement/ CLIHTF 2024 Policy and Procedure
DESCRIPTION:
URL:https://clihtf.org/event/how-to-complete-rental-subsidy-program-annual-agreement-clihtf-2024-policy-and-procedure/2025-11-18/
END:VEVENT
BEGIN:VEVENT
DTSTART;TZID=America/Chicago:20251113T083000
DTEND;TZID=America/Chicago:20251113T093000
DTSTAMP:20260422T220319
CREATED:20250821T151249Z
LAST-MODIFIED:20250821T151249Z
UID:10000808-1763022600-1763026200@clihtf.org
SUMMARY:Outreach Committee
DESCRIPTION:
URL:https://clihtf.org/event/outreach-committee-5/
CATEGORIES:Administrative Day
END:VEVENT
BEGIN:VEVENT
DTSTART;TZID=America/Chicago:20251112T083000
DTEND;TZID=America/Chicago:20251112T103000
DTSTAMP:20260422T220319
CREATED:20250821T150929Z
LAST-MODIFIED:20251017T162040Z
UID:10000805-1762936200-1762943400@clihtf.org
SUMMARY:Board Meeting
DESCRIPTION:
URL:https://clihtf.org/event/executive-committee-meeting-board-meeting/
CATEGORIES:Administrative Day,Board Meetings
END:VEVENT
BEGIN:VEVENT
DTSTART;VALUE=DATE:20251112
DTEND;VALUE=DATE:20251113
DTSTAMP:20260422T220319
CREATED:20230731T203806Z
LAST-MODIFIED:20230731T203807Z
UID:10000122-1762905600-1762991999@clihtf.org
SUMMARY:Administrative Day
DESCRIPTION:Office Closed
URL:https://clihtf.org/event/administrative-day-2-2/2025-11-12/
CATEGORIES:Administrative Day
END:VEVENT
BEGIN:VEVENT
DTSTART;TZID=America/Chicago:20251111T123000
DTEND;TZID=America/Chicago:20251111T133000
DTSTAMP:20260422T220319
CREATED:20241210T180305Z
LAST-MODIFIED:20241210T180305Z
UID:10000328-1762864200-1762867800@clihtf.org
SUMMARY:Trust Fund Central Introductory Training Session
DESCRIPTION:
URL:https://clihtf.org/event/trust-fund-central-introductory-training-session/2025-11-11/
END:VEVENT
BEGIN:VEVENT
DTSTART;VALUE=DATE:20251111
DTEND;VALUE=DATE:20251112
DTSTAMP:20260422T220319
CREATED:20241216T170406Z
LAST-MODIFIED:20241216T170406Z
UID:10000765-1762819200-1762905599@clihtf.org
SUMMARY:Veteran's Day
DESCRIPTION:Office Closed
URL:https://clihtf.org/event/veterans-day/
CATEGORIES:Administrative Day
END:VEVENT
BEGIN:VEVENT
DTSTART;TZID=America/Chicago:20251106T173000
DTEND;TZID=America/Chicago:20251106T193000
DTSTAMP:20260422T220319
CREATED:20241210T181459Z
LAST-MODIFIED:20241210T181557Z
UID:10000588-1762450200-1762457400@clihtf.org
SUMMARY:Trust Fund Central Introductory Training Session (Evening)
DESCRIPTION:
URL:https://clihtf.org/event/trust-fund-central-introductory-training-session-evening/2025-11-06/
END:VEVENT
BEGIN:VEVENT
DTSTART;TZID=America/Chicago:20251106T153000
DTEND;TZID=America/Chicago:20251106T163000
DTSTAMP:20260422T220319
CREATED:20250821T151144Z
LAST-MODIFIED:20250821T151144Z
UID:10000807-1762443000-1762446600@clihtf.org
SUMMARY:Finance Committee
DESCRIPTION:
URL:https://clihtf.org/event/finance-committee-8/
CATEGORIES:Administrative Day
END:VEVENT
BEGIN:VEVENT
DTSTART;VALUE=DATE:20251105
DTEND;VALUE=DATE:20251106
DTSTAMP:20260422T220319
CREATED:20230731T203806Z
LAST-MODIFIED:20230731T203807Z
UID:10000121-1762300800-1762387199@clihtf.org
SUMMARY:Administrative Day
DESCRIPTION:Office Closed
URL:https://clihtf.org/event/administrative-day-2-2/2025-11-05/
CATEGORIES:Administrative Day
END:VEVENT
BEGIN:VEVENT
DTSTART;TZID=America/Chicago:20251104T140000
DTEND;TZID=America/Chicago:20251104T150000
DTSTAMP:20260422T220319
CREATED:20250821T151040Z
LAST-MODIFIED:20250821T151040Z
UID:10000806-1762264800-1762268400@clihtf.org
SUMMARY:Allocations Committee
DESCRIPTION:
URL:https://clihtf.org/event/allocations-committee-8/
CATEGORIES:Administrative Day
END:VEVENT
BEGIN:VEVENT
DTSTART;TZID=America/Chicago:20251104T123000
DTEND;TZID=America/Chicago:20251104T140000
DTSTAMP:20260422T220319
CREATED:20241210T180734Z
LAST-MODIFIED:20241210T180734Z
UID:10000458-1762259400-1762264800@clihtf.org
SUMMARY:How to Complete Rental Subsidy Program Annual Agreement/ CLIHTF 2024 Policy and Procedure
DESCRIPTION:
URL:https://clihtf.org/event/how-to-complete-rental-subsidy-program-annual-agreement-clihtf-2024-policy-and-procedure/2025-11-04/
END:VEVENT
BEGIN:VEVENT
DTSTART;VALUE=DATE:20251029
DTEND;VALUE=DATE:20251030
DTSTAMP:20260422T220319
CREATED:20230731T203806Z
LAST-MODIFIED:20230731T203807Z
UID:10000120-1761696000-1761782399@clihtf.org
SUMMARY:Administrative Day
DESCRIPTION:Office Closed
URL:https://clihtf.org/event/administrative-day-2-2/2025-10-29/
CATEGORIES:Administrative Day
END:VEVENT
BEGIN:VEVENT
DTSTART;TZID=America/Chicago:20251028T123000
DTEND;TZID=America/Chicago:20251028T133000
DTSTAMP:20260422T220319
CREATED:20241210T180305Z
LAST-MODIFIED:20241210T180305Z
UID:10000327-1761654600-1761658200@clihtf.org
SUMMARY:Trust Fund Central Introductory Training Session
DESCRIPTION:
URL:https://clihtf.org/event/trust-fund-central-introductory-training-session/2025-10-28/
END:VEVENT
BEGIN:VEVENT
DTSTART;TZID=America/Chicago:20251023T173000
DTEND;TZID=America/Chicago:20251023T193000
DTSTAMP:20260422T220319
CREATED:20241210T181459Z
LAST-MODIFIED:20241210T181557Z
UID:10000587-1761240600-1761247800@clihtf.org
SUMMARY:Trust Fund Central Introductory Training Session (Evening)
DESCRIPTION:
URL:https://clihtf.org/event/trust-fund-central-introductory-training-session-evening/2025-10-23/
END:VEVENT
BEGIN:VEVENT
DTSTART;VALUE=DATE:20251022
DTEND;VALUE=DATE:20251023
DTSTAMP:20260422T220319
CREATED:20230731T203806Z
LAST-MODIFIED:20230731T203807Z
UID:10000119-1761091200-1761177599@clihtf.org
SUMMARY:Administrative Day
DESCRIPTION:Office Closed
URL:https://clihtf.org/event/administrative-day-2-2/2025-10-22/
CATEGORIES:Administrative Day
END:VEVENT
BEGIN:VEVENT
DTSTART;TZID=America/Chicago:20251021T123000
DTEND;TZID=America/Chicago:20251021T140000
DTSTAMP:20260422T220319
CREATED:20241210T180734Z
LAST-MODIFIED:20241210T180734Z
UID:10000457-1761049800-1761055200@clihtf.org
SUMMARY:How to Complete Rental Subsidy Program Annual Agreement/ CLIHTF 2024 Policy and Procedure
DESCRIPTION:
URL:https://clihtf.org/event/how-to-complete-rental-subsidy-program-annual-agreement-clihtf-2024-policy-and-procedure/2025-10-21/
END:VEVENT
END:VCALENDAR