BEGIN:VCALENDAR
VERSION:2.0
PRODID:-//CLIHTF - ECPv6.15.20//NONSGML v1.0//EN
CALSCALE:GREGORIAN
METHOD:PUBLISH
X-WR-CALNAME:CLIHTF
X-ORIGINAL-URL:https://clihtf.org
X-WR-CALDESC:Events for CLIHTF
REFRESH-INTERVAL;VALUE=DURATION:PT1H
X-Robots-Tag:noindex
X-PUBLISHED-TTL:PT1H
BEGIN:VTIMEZONE
TZID:America/Chicago
BEGIN:DAYLIGHT
TZOFFSETFROM:-0600
TZOFFSETTO:-0500
TZNAME:CDT
DTSTART:20240310T080000
END:DAYLIGHT
BEGIN:STANDARD
TZOFFSETFROM:-0500
TZOFFSETTO:-0600
TZNAME:CST
DTSTART:20241103T070000
END:STANDARD
BEGIN:DAYLIGHT
TZOFFSETFROM:-0600
TZOFFSETTO:-0500
TZNAME:CDT
DTSTART:20250309T080000
END:DAYLIGHT
BEGIN:STANDARD
TZOFFSETFROM:-0500
TZOFFSETTO:-0600
TZNAME:CST
DTSTART:20251102T070000
END:STANDARD
BEGIN:DAYLIGHT
TZOFFSETFROM:-0600
TZOFFSETTO:-0500
TZNAME:CDT
DTSTART:20260308T080000
END:DAYLIGHT
BEGIN:STANDARD
TZOFFSETFROM:-0500
TZOFFSETTO:-0600
TZNAME:CST
DTSTART:20261101T070000
END:STANDARD
BEGIN:DAYLIGHT
TZOFFSETFROM:-0600
TZOFFSETTO:-0500
TZNAME:CDT
DTSTART:20270314T080000
END:DAYLIGHT
BEGIN:STANDARD
TZOFFSETFROM:-0500
TZOFFSETTO:-0600
TZNAME:CST
DTSTART:20271107T070000
END:STANDARD
END:VTIMEZONE
BEGIN:VTIMEZONE
TZID:UTC
BEGIN:STANDARD
TZOFFSETFROM:+0000
TZOFFSETTO:+0000
TZNAME:UTC
DTSTART:20240101T000000
END:STANDARD
END:VTIMEZONE
BEGIN:VEVENT
DTSTART;TZID=America/Chicago:20260121T123000
DTEND;TZID=America/Chicago:20260121T143000
DTSTAMP:20260419T210853
CREATED:20241210T181841Z
LAST-MODIFIED:20241210T181841Z
UID:<span class="W3sYhOj4Gb__">gro&#x2e;fthilc&#64;0085009671-0068998671-80700001</span>
SUMMARY:Social Service Agency Partnership Training
DESCRIPTION:
URL:https://clihtf.org/event/social-service-agency-partnership-training/2026-01-21/
END:VEVENT
BEGIN:VEVENT
DTSTART;VALUE=DATE:20260121
DTEND;VALUE=DATE:20260122
DTSTAMP:20260419T210853
CREATED:20230731T203806Z
LAST-MODIFIED:20230731T203807Z
UID:<span class="W3sYhOj4Gb__">gro&#x2e;fthilc&#64;9999309671-0063598671-23100001</span>
SUMMARY:Administrative Day
DESCRIPTION:Office Closed
URL:https://clihtf.org/event/administrative-day-2-2/2026-01-21/
CATEGORIES:Administrative Day
END:VEVENT
BEGIN:VEVENT
DTSTART;TZID=America/Chicago:20260120T123000
DTEND;TZID=America/Chicago:20260120T133000
DTSTAMP:20260419T210853
CREATED:20241210T180305Z
LAST-MODIFIED:20241210T180305Z
UID:<span class="W3sYhOj4Gb__">gro&#x2e;fthilc&#64;0085198671-0022198671-33300001</span>
SUMMARY:Trust Fund Central Introductory Training Session
DESCRIPTION:
URL:https://clihtf.org/event/trust-fund-central-introductory-training-session/2026-01-20/
END:VEVENT
BEGIN:VEVENT
DTSTART;TZID=America/Chicago:20260115T173000
DTEND;TZID=America/Chicago:20260115T193000
DTSTAMP:20260419T210853
CREATED:20241210T181459Z
LAST-MODIFIED:20241210T181557Z
UID:<span class="W3sYhOj4Gb__">gro&#x2e;fthilc&#64;0045058671-0028948671-39500001</span>
SUMMARY:Trust Fund Central Introductory Training Session (Evening)
DESCRIPTION:
URL:https://clihtf.org/event/trust-fund-central-introductory-training-session-evening/2026-01-15/
END:VEVENT
BEGIN:VEVENT
DTSTART;TZID=America/Chicago:20260115T083000
DTEND;TZID=America/Chicago:20260115T103000
DTSTAMP:20260419T210853
CREATED:20260106T172628Z
LAST-MODIFIED:20260109T175708Z
UID:<span class="W3sYhOj4Gb__">gro&#x2e;fthilc&#64;0003748671-0085648671-71800001</span>
SUMMARY:Outreach Meeting
DESCRIPTION:
URL:https://clihtf.org/event/outreach-meeting-9/2026-01-15/
CATEGORIES:Administrative Day
END:VEVENT
BEGIN:VEVENT
DTSTART;VALUE=DATE:20260114
DTEND;VALUE=DATE:20260115
DTSTAMP:20260419T210853
CREATED:20230731T203806Z
LAST-MODIFIED:20230731T203807Z
UID:<span class="W3sYhOj4Gb__">gro&#x2e;fthilc&#64;9915348671-0088438671-13100001</span>
SUMMARY:Administrative Day
DESCRIPTION:Office Closed
URL:https://clihtf.org/event/administrative-day-2-2/2026-01-14/
CATEGORIES:Administrative Day
END:VEVENT
BEGIN:VEVENT
DTSTART;TZID=America/Chicago:20260113T123000
DTEND;TZID=America/Chicago:20260113T140000
DTSTAMP:20260419T210853
CREATED:20241210T180734Z
LAST-MODIFIED:20241210T180734Z
UID:<span class="W3sYhOj4Gb__">gro&#x2e;fthilc&#64;0082138671-0047038671-36400001</span>
SUMMARY:How to Complete Rental Subsidy Program Annual Agreement/ CLIHTF 2024 Policy and Procedure
DESCRIPTION:
URL:https://clihtf.org/event/how-to-complete-rental-subsidy-program-annual-agreement-clihtf-2024-policy-and-procedure/2026-01-13/
END:VEVENT
BEGIN:VEVENT
DTSTART;TZID=America/Chicago:20260113T083000
DTEND;TZID=America/Chicago:20260113T103000
DTSTAMP:20260419T210853
CREATED:20260106T172501Z
LAST-MODIFIED:20260109T172654Z
UID:<span class="W3sYhOj4Gb__">gro&#x2e;fthilc&#64;0020038671-0003928671-61800001</span>
SUMMARY:Board Meeting
DESCRIPTION:Join an online meeting
URL:https://clihtf.org/event/board-meeting-11/2026-01-13/
CATEGORIES:Administrative Day,Board Meetings
END:VEVENT
BEGIN:VEVENT
DTSTART;TZID=America/Chicago:20260108T150000
DTEND;TZID=America/Chicago:20260108T170000
DTSTAMP:20260419T210853
CREATED:20260106T172333Z
LAST-MODIFIED:20260106T172333Z
UID:<span class="W3sYhOj4Gb__">gro&#x2e;fthilc&#64;0061987671-0044887671-51800001</span>
SUMMARY:Finance Meeting
DESCRIPTION:
URL:https://clihtf.org/event/finance-meeting-11/
CATEGORIES:Administrative Day
END:VEVENT
BEGIN:VEVENT
DTSTART;VALUE=DATE:20260107
DTEND;VALUE=DATE:20260108
DTSTAMP:20260419T210853
CREATED:20230731T203806Z
LAST-MODIFIED:20230731T203807Z
UID:<span class="W3sYhOj4Gb__">gro&#x2e;fthilc&#64;9930387671-0004477671-03100001</span>
SUMMARY:Administrative Day
DESCRIPTION:Office Closed
URL:https://clihtf.org/event/administrative-day-2-2/2026-01-07/
CATEGORIES:Administrative Day
END:VEVENT
BEGIN:VEVENT
DTSTART;TZID=America/Chicago:20260106T140000
DTEND;TZID=America/Chicago:20260106T160000
DTSTAMP:20260419T210853
CREATED:20260106T172116Z
LAST-MODIFIED:20260106T172116Z
UID:<span class="W3sYhOj4Gb__">gro&#x2e;fthilc&#64;0025177671-0008077671-41800001</span>
SUMMARY:Allocations Meeting
DESCRIPTION:
URL:https://clihtf.org/event/allocations-meeting-10/
CATEGORIES:Administrative Day
END:VEVENT
BEGIN:VEVENT
DTSTART;TZID=America/Chicago:20260106T123000
DTEND;TZID=America/Chicago:20260106T133000
DTSTAMP:20260419T210853
CREATED:20241210T180305Z
LAST-MODIFIED:20241210T180305Z
UID:<span class="W3sYhOj4Gb__">gro&#x2e;fthilc&#64;0026077671-0062077671-23300001</span>
SUMMARY:Trust Fund Central Introductory Training Session
DESCRIPTION:
URL:https://clihtf.org/event/trust-fund-central-introductory-training-session/2026-01-06/
END:VEVENT
BEGIN:VEVENT
DTSTART;TZID=America/Chicago:20260101T173000
DTEND;TZID=America/Chicago:20260101T193000
DTSTAMP:20260419T210853
CREATED:20241210T181459Z
LAST-MODIFIED:20241210T181557Z
UID:<span class="W3sYhOj4Gb__">gro&#x2e;fthilc&#64;0085927671-0068827671-29500001</span>
SUMMARY:Trust Fund Central Introductory Training Session (Evening)
DESCRIPTION:
URL:https://clihtf.org/event/trust-fund-central-introductory-training-session-evening/2026-01-01/
END:VEVENT
BEGIN:VEVENT
DTSTART;VALUE=DATE:20251231
DTEND;VALUE=DATE:20260101
DTSTAMP:20260419T210853
CREATED:20230731T203806Z
LAST-MODIFIED:20230731T203807Z
UID:<span class="W3sYhOj4Gb__">gro&#x2e;fthilc&#64;9955227671-0029317671-92100001</span>
SUMMARY:Administrative Day
DESCRIPTION:Office Closed
URL:https://clihtf.org/event/administrative-day-2-2/2025-12-31/
CATEGORIES:Administrative Day
END:VEVENT
BEGIN:VEVENT
DTSTART;TZID=America/Chicago:20251230T123000
DTEND;TZID=America/Chicago:20251230T140000
DTSTAMP:20260419T210853
CREATED:20241210T180734Z
LAST-MODIFIED:20241210T180734Z
UID:<span class="W3sYhOj4Gb__">gro&#x2e;fthilc&#64;0023017671-0087907671-26400001</span>
SUMMARY:How to Complete Rental Subsidy Program Annual Agreement/ CLIHTF 2024 Policy and Procedure
DESCRIPTION:
URL:https://clihtf.org/event/how-to-complete-rental-subsidy-program-annual-agreement-clihtf-2024-policy-and-procedure/2025-12-30/
END:VEVENT
BEGIN:VEVENT
DTSTART;VALUE=DATE:20251225
DTEND;VALUE=DATE:20251226
DTSTAMP:20260419T210853
CREATED:20241216T170550Z
LAST-MODIFIED:20241216T170550Z
UID:<span class="W3sYhOj4Gb__">gro&#x2e;fthilc&#64;9917076671-0080266671-76700001</span>
SUMMARY:Christmas Day
DESCRIPTION:Office Closed
URL:https://clihtf.org/event/christmas-day-2/
CATEGORIES:Administrative Day
END:VEVENT
BEGIN:VEVENT
DTSTART;VALUE=DATE:20251224
DTEND;VALUE=DATE:20251225
DTSTAMP:20260419T210853
CREATED:20230731T203806Z
LAST-MODIFIED:20230731T203807Z
UID:<span class="W3sYhOj4Gb__">gro&#x2e;fthilc&#64;9970266671-0044356671-82100001</span>
SUMMARY:Administrative Day
DESCRIPTION:Office Closed
URL:https://clihtf.org/event/administrative-day-2-2/2025-12-24/
CATEGORIES:Administrative Day
END:VEVENT
BEGIN:VEVENT
DTSTART;TZID=America/Chicago:20251223T123000
DTEND;TZID=America/Chicago:20251223T133000
DTSTAMP:20260419T210853
CREATED:20241210T180305Z
LAST-MODIFIED:20241210T180305Z
UID:<span class="W3sYhOj4Gb__">gro&#x2e;fthilc&#64;0066946671-0003946671-13300001</span>
SUMMARY:Trust Fund Central Introductory Training Session
DESCRIPTION:
URL:https://clihtf.org/event/trust-fund-central-introductory-training-session/2025-12-23/
END:VEVENT
BEGIN:VEVENT
DTSTART;TZID=America/Chicago:20251218T173000
DTEND;TZID=America/Chicago:20251218T193000
DTSTAMP:20260419T210853
CREATED:20241210T181459Z
LAST-MODIFIED:20241210T181557Z
UID:<span class="W3sYhOj4Gb__">gro&#x2e;fthilc&#64;0026806671-0009706671-19500001</span>
SUMMARY:Trust Fund Central Introductory Training Session (Evening)
DESCRIPTION:
URL:https://clihtf.org/event/trust-fund-central-introductory-training-session-evening/2025-12-18/
END:VEVENT
BEGIN:VEVENT
DTSTART;TZID=America/Chicago:20251217T123000
DTEND;TZID=America/Chicago:20251217T143000
DTSTAMP:20260419T210853
CREATED:20241210T181841Z
LAST-MODIFIED:20241210T181841Z
UID:<span class="W3sYhOj4Gb__">gro&#x2e;fthilc&#64;0081895671-0064795671-70700001</span>
SUMMARY:Social Service Agency Partnership Training
DESCRIPTION:
URL:https://clihtf.org/event/social-service-agency-partnership-training/2025-12-17/
END:VEVENT
BEGIN:VEVENT
DTSTART;VALUE=DATE:20251217
DTEND;VALUE=DATE:20251218
DTSTAMP:20260419T210853
CREATED:20230731T203806Z
LAST-MODIFIED:20230731T203807Z
UID:<span class="W3sYhOj4Gb__">gro&#x2e;fthilc&#64;9995106671-0069295671-72100001</span>
SUMMARY:Administrative Day
DESCRIPTION:Office Closed
URL:https://clihtf.org/event/administrative-day-2-2/2025-12-17/
CATEGORIES:Administrative Day
END:VEVENT
BEGIN:VEVENT
DTSTART;TZID=America/Chicago:20251216T123000
DTEND;TZID=America/Chicago:20251216T140000
DTSTAMP:20260419T210853
CREATED:20241210T180734Z
LAST-MODIFIED:20241210T180734Z
UID:<span class="W3sYhOj4Gb__">gro&#x2e;fthilc&#64;0063985671-0028885671-16400001</span>
SUMMARY:How to Complete Rental Subsidy Program Annual Agreement/ CLIHTF 2024 Policy and Procedure
DESCRIPTION:
URL:https://clihtf.org/event/how-to-complete-rental-subsidy-program-annual-agreement-clihtf-2024-policy-and-procedure/2025-12-16/
END:VEVENT
BEGIN:VEVENT
DTSTART;TZID=America/Chicago:20251211T083000
DTEND;TZID=America/Chicago:20251211T093000
DTSTAMP:20260419T210853
CREATED:20250821T151648Z
LAST-MODIFIED:20250821T151648Z
UID:<span class="W3sYhOj4Gb__">gro&#x2e;fthilc&#64;0045445671-0081445671-11800001</span>
SUMMARY:Outreach Committee
DESCRIPTION:
URL:https://clihtf.org/event/outreach-committee-6/
CATEGORIES:Administrative Day
END:VEVENT
BEGIN:VEVENT
DTSTART;VALUE=DATE:20251210
DTEND;VALUE=DATE:20251211
DTSTAMP:20260419T210853
CREATED:20230731T203806Z
LAST-MODIFIED:20230731T203807Z
UID:<span class="W3sYhOj4Gb__">gro&#x2e;fthilc&#64;9911145671-0084235671-62100001</span>
SUMMARY:Administrative Day
DESCRIPTION:Office Closed
URL:https://clihtf.org/event/administrative-day-2-2/2025-12-10/
CATEGORIES:Administrative Day
END:VEVENT
BEGIN:VEVENT
DTSTART;TZID=America/Chicago:20251209T123000
DTEND;TZID=America/Chicago:20251209T133000
DTSTAMP:20260419T210853
CREATED:20241210T180305Z
LAST-MODIFIED:20241210T180305Z
UID:<span class="W3sYhOj4Gb__">gro&#x2e;fthilc&#64;0007825671-0043825671-03300001</span>
SUMMARY:Trust Fund Central Introductory Training Session
DESCRIPTION:
URL:https://clihtf.org/event/trust-fund-central-introductory-training-session/2025-12-09/
END:VEVENT
BEGIN:VEVENT
DTSTART;TZID=America/Chicago:20251209T083000
DTEND;TZID=America/Chicago:20251209T093000
DTSTAMP:20260419T210853
CREATED:20250821T151804Z
LAST-MODIFIED:20251008T210638Z
UID:<span class="W3sYhOj4Gb__">gro&#x2e;fthilc&#64;0062725671-0009625671-21800001</span>
SUMMARY:Board Meeting
DESCRIPTION:
URL:https://clihtf.org/event/executive-committee-meeting-board-meeting-2/
CATEGORIES:Administrative Day,Board Meetings
END:VEVENT
BEGIN:VEVENT
DTSTART;TZID=America/Chicago:20251204T173000
DTEND;TZID=America/Chicago:20251204T193000
DTSTAMP:20260419T210853
CREATED:20241210T181459Z
LAST-MODIFIED:20241210T181557Z
UID:<span class="W3sYhOj4Gb__">gro&#x2e;fthilc&#64;0066784671-0049684671-09500001</span>
SUMMARY:Trust Fund Central Introductory Training Session (Evening)
DESCRIPTION:
URL:https://clihtf.org/event/trust-fund-central-introductory-training-session-evening/2025-12-04/
END:VEVENT
BEGIN:VEVENT
DTSTART;TZID=America/Chicago:20251204T153000
DTEND;TZID=America/Chicago:20251204T163000
DTSTAMP:20260419T210853
CREATED:20250821T151541Z
LAST-MODIFIED:20250821T151541Z
UID:<span class="W3sYhOj4Gb__">gro&#x2e;fthilc&#64;0085684671-0022684671-01800001</span>
SUMMARY:Finance Committee
DESCRIPTION:
URL:https://clihtf.org/event/finance-committee-9/
CATEGORIES:Administrative Day
END:VEVENT
BEGIN:VEVENT
DTSTART;VALUE=DATE:20251203
DTEND;VALUE=DATE:20251204
DTSTAMP:20260419T210853
CREATED:20230731T203806Z
LAST-MODIFIED:20230731T203807Z
UID:<span class="W3sYhOj4Gb__">gro&#x2e;fthilc&#64;9936084671-0000274671-52100001</span>
SUMMARY:Administrative Day
DESCRIPTION:Office Closed
URL:https://clihtf.org/event/administrative-day-2-2/2025-12-03/
CATEGORIES:Administrative Day
END:VEVENT
BEGIN:VEVENT
DTSTART;TZID=America/Chicago:20251202T140000
DTEND;TZID=America/Chicago:20251202T150000
DTSTAMP:20260419T210853
CREATED:20250821T151406Z
LAST-MODIFIED:20250821T151406Z
UID:<span class="W3sYhOj4Gb__">gro&#x2e;fthilc&#64;0067864671-0004864671-90800001</span>
SUMMARY:Allocations Committee
DESCRIPTION:
URL:https://clihtf.org/event/allocations-committee-9/
CATEGORIES:Administrative Day
END:VEVENT
END:VCALENDAR