BEGIN:VCALENDAR
VERSION:2.0
PRODID:-//CLIHTF - ECPv6.15.20//NONSGML v1.0//EN
CALSCALE:GREGORIAN
METHOD:PUBLISH
X-WR-CALNAME:CLIHTF
X-ORIGINAL-URL:https://clihtf.org
X-WR-CALDESC:Events for CLIHTF
REFRESH-INTERVAL;VALUE=DURATION:PT1H
X-Robots-Tag:noindex
X-PUBLISHED-TTL:PT1H
BEGIN:VTIMEZONE
TZID:America/Chicago
BEGIN:DAYLIGHT
TZOFFSETFROM:-0600
TZOFFSETTO:-0500
TZNAME:CDT
DTSTART:20250309T080000
END:DAYLIGHT
BEGIN:STANDARD
TZOFFSETFROM:-0500
TZOFFSETTO:-0600
TZNAME:CST
DTSTART:20251102T070000
END:STANDARD
BEGIN:DAYLIGHT
TZOFFSETFROM:-0600
TZOFFSETTO:-0500
TZNAME:CDT
DTSTART:20260308T080000
END:DAYLIGHT
BEGIN:STANDARD
TZOFFSETFROM:-0500
TZOFFSETTO:-0600
TZNAME:CST
DTSTART:20261101T070000
END:STANDARD
BEGIN:DAYLIGHT
TZOFFSETFROM:-0600
TZOFFSETTO:-0500
TZNAME:CDT
DTSTART:20270314T080000
END:DAYLIGHT
BEGIN:STANDARD
TZOFFSETFROM:-0500
TZOFFSETTO:-0600
TZNAME:CST
DTSTART:20271107T070000
END:STANDARD
END:VTIMEZONE
BEGIN:VTIMEZONE
TZID:UTC
BEGIN:STANDARD
TZOFFSETFROM:+0000
TZOFFSETTO:+0000
TZNAME:UTC
DTSTART:20250101T000000
END:STANDARD
END:VTIMEZONE
BEGIN:VEVENT
DTSTART;TZID=America/Chicago:20260702T173000
DTEND;TZID=America/Chicago:20260702T193000
DTSTAMP:20260421T104459
CREATED:20241210T181459Z
LAST-MODIFIED:20241210T181557Z
UID:10000605-1783013400-1783020600@clihtf.org
SUMMARY:Trust Fund Central Introductory Training Session (Evening)
DESCRIPTION:
URL:https://clihtf.org/event/trust-fund-central-introductory-training-session-evening/2026-07-02/
END:VEVENT
BEGIN:VEVENT
DTSTART;TZID=America/Chicago:20260707T123000
DTEND;TZID=America/Chicago:20260707T133000
DTSTAMP:20260421T104459
CREATED:20241210T180305Z
LAST-MODIFIED:20241210T180305Z
UID:10000345-1783427400-1783431000@clihtf.org
SUMMARY:Trust Fund Central Introductory Training Session
DESCRIPTION:
URL:https://clihtf.org/event/trust-fund-central-introductory-training-session/2026-07-07/
END:VEVENT
BEGIN:VEVENT
DTSTART;TZID=America/Chicago:20260707T140000
DTEND;TZID=America/Chicago:20260707T150000
DTSTAMP:20260421T104459
CREATED:20260109T174013Z
LAST-MODIFIED:20260109T174542Z
UID:10000846-1783432800-1783436400@clihtf.org
SUMMARY:Allocations Meeting
DESCRIPTION:
URL:https://clihtf.org/event/allocations-meeting-14/2026-07-07/
CATEGORIES:Administrative Day
END:VEVENT
BEGIN:VEVENT
DTSTART;VALUE=DATE:20260708
DTEND;VALUE=DATE:20260709
DTSTAMP:20260421T104459
CREATED:20230731T203806Z
LAST-MODIFIED:20230731T203807Z
UID:10000156-1783468800-1783555199@clihtf.org
SUMMARY:Administrative Day
DESCRIPTION:Office Closed
URL:https://clihtf.org/event/administrative-day-2-2/2026-07-08/
CATEGORIES:Administrative Day
END:VEVENT
BEGIN:VEVENT
DTSTART;TZID=America/Chicago:20260709T150000
DTEND;TZID=America/Chicago:20260709T163000
DTSTAMP:20260421T104459
CREATED:20260112T155021Z
LAST-MODIFIED:20260112T155021Z
UID:10000863-1783609200-1783614600@clihtf.org
SUMMARY:Finance Meeting
DESCRIPTION:
URL:https://clihtf.org/event/finance-meeting-17/
CATEGORIES:Administrative Day
END:VEVENT
BEGIN:VEVENT
DTSTART;TZID=America/Chicago:20260714T083000
DTEND;TZID=America/Chicago:20260714T103000
DTSTAMP:20260421T104459
CREATED:20260106T172501Z
LAST-MODIFIED:20260109T172654Z
UID:10000835-1784017800-1784025000@clihtf.org
SUMMARY:Board Meeting
DESCRIPTION:Join an online meeting
URL:https://clihtf.org/event/board-meeting-11/2026-07-14/
CATEGORIES:Administrative Day,Board Meetings
END:VEVENT
BEGIN:VEVENT
DTSTART;TZID=America/Chicago:20260714T123000
DTEND;TZID=America/Chicago:20260714T140000
DTSTAMP:20260421T104459
CREATED:20241210T180734Z
LAST-MODIFIED:20241210T180734Z
UID:10000476-1784032200-1784037600@clihtf.org
SUMMARY:How to Complete Rental Subsidy Program Annual Agreement/ CLIHTF 2024 Policy and Procedure
DESCRIPTION:
URL:https://clihtf.org/event/how-to-complete-rental-subsidy-program-annual-agreement-clihtf-2024-policy-and-procedure/2026-07-14/
END:VEVENT
BEGIN:VEVENT
DTSTART;VALUE=DATE:20260715
DTEND;VALUE=DATE:20260716
DTSTAMP:20260421T104459
CREATED:20230731T203806Z
LAST-MODIFIED:20230731T203807Z
UID:10000157-1784073600-1784159999@clihtf.org
SUMMARY:Administrative Day
DESCRIPTION:Office Closed
URL:https://clihtf.org/event/administrative-day-2-2/2026-07-15/
CATEGORIES:Administrative Day
END:VEVENT
BEGIN:VEVENT
DTSTART;TZID=America/Chicago:20260715T123000
DTEND;TZID=America/Chicago:20260715T143000
DTSTAMP:20260421T104459
CREATED:20241210T181841Z
LAST-MODIFIED:20241210T181841Z
UID:10000714-1784118600-1784125800@clihtf.org
SUMMARY:Social Service Agency Partnership Training
DESCRIPTION:
URL:https://clihtf.org/event/social-service-agency-partnership-training/2026-07-15/
END:VEVENT
BEGIN:VEVENT
DTSTART;TZID=America/Chicago:20260716T083000
DTEND;TZID=America/Chicago:20260716T103000
DTSTAMP:20260421T104459
CREATED:20260106T172628Z
LAST-MODIFIED:20260109T175708Z
UID:10000852-1784190600-1784197800@clihtf.org
SUMMARY:Outreach Meeting
DESCRIPTION:
URL:https://clihtf.org/event/outreach-meeting-9/2026-07-16/
CATEGORIES:Administrative Day
END:VEVENT
BEGIN:VEVENT
DTSTART;TZID=America/Chicago:20260716T173000
DTEND;TZID=America/Chicago:20260716T193000
DTSTAMP:20260421T104459
CREATED:20241210T181459Z
LAST-MODIFIED:20241210T181557Z
UID:10000606-1784223000-1784230200@clihtf.org
SUMMARY:Trust Fund Central Introductory Training Session (Evening)
DESCRIPTION:
URL:https://clihtf.org/event/trust-fund-central-introductory-training-session-evening/2026-07-16/
END:VEVENT
BEGIN:VEVENT
DTSTART;TZID=America/Chicago:20260721T123000
DTEND;TZID=America/Chicago:20260721T133000
DTSTAMP:20260421T104459
CREATED:20241210T180305Z
LAST-MODIFIED:20241210T180305Z
UID:10000346-1784637000-1784640600@clihtf.org
SUMMARY:Trust Fund Central Introductory Training Session
DESCRIPTION:
URL:https://clihtf.org/event/trust-fund-central-introductory-training-session/2026-07-21/
END:VEVENT
BEGIN:VEVENT
DTSTART;VALUE=DATE:20260722
DTEND;VALUE=DATE:20260723
DTSTAMP:20260421T104459
CREATED:20230731T203806Z
LAST-MODIFIED:20230731T203807Z
UID:10000158-1784678400-1784764799@clihtf.org
SUMMARY:Administrative Day
DESCRIPTION:Office Closed
URL:https://clihtf.org/event/administrative-day-2-2/2026-07-22/
CATEGORIES:Administrative Day
END:VEVENT
BEGIN:VEVENT
DTSTART;TZID=America/Chicago:20260728T123000
DTEND;TZID=America/Chicago:20260728T140000
DTSTAMP:20260421T104459
CREATED:20241210T180734Z
LAST-MODIFIED:20241210T180734Z
UID:10000477-1785241800-1785247200@clihtf.org
SUMMARY:How to Complete Rental Subsidy Program Annual Agreement/ CLIHTF 2024 Policy and Procedure
DESCRIPTION:
URL:https://clihtf.org/event/how-to-complete-rental-subsidy-program-annual-agreement-clihtf-2024-policy-and-procedure/2026-07-28/
END:VEVENT
BEGIN:VEVENT
DTSTART;VALUE=DATE:20260729
DTEND;VALUE=DATE:20260730
DTSTAMP:20260421T104459
CREATED:20230731T203806Z
LAST-MODIFIED:20230731T203807Z
UID:10000159-1785283200-1785369599@clihtf.org
SUMMARY:Administrative Day
DESCRIPTION:Office Closed
URL:https://clihtf.org/event/administrative-day-2-2/2026-07-29/
CATEGORIES:Administrative Day
END:VEVENT
BEGIN:VEVENT
DTSTART;TZID=America/Chicago:20260730T173000
DTEND;TZID=America/Chicago:20260730T193000
DTSTAMP:20260421T104459
CREATED:20241210T181459Z
LAST-MODIFIED:20241210T181557Z
UID:10000607-1785432600-1785439800@clihtf.org
SUMMARY:Trust Fund Central Introductory Training Session (Evening)
DESCRIPTION:
URL:https://clihtf.org/event/trust-fund-central-introductory-training-session-evening/2026-07-30/
END:VEVENT
BEGIN:VEVENT
DTSTART;TZID=America/Chicago:20260804T123000
DTEND;TZID=America/Chicago:20260804T133000
DTSTAMP:20260421T104459
CREATED:20241210T180305Z
LAST-MODIFIED:20241210T180305Z
UID:10000347-1785846600-1785850200@clihtf.org
SUMMARY:Trust Fund Central Introductory Training Session
DESCRIPTION:
URL:https://clihtf.org/event/trust-fund-central-introductory-training-session/2026-08-04/
END:VEVENT
BEGIN:VEVENT
DTSTART;VALUE=DATE:20260805
DTEND;VALUE=DATE:20260806
DTSTAMP:20260421T104459
CREATED:20230731T203806Z
LAST-MODIFIED:20230731T203807Z
UID:10000160-1785888000-1785974399@clihtf.org
SUMMARY:Administrative Day
DESCRIPTION:Office Closed
URL:https://clihtf.org/event/administrative-day-2-2/2026-08-05/
CATEGORIES:Administrative Day
END:VEVENT
BEGIN:VEVENT
DTSTART;TZID=America/Chicago:20260811T083000
DTEND;TZID=America/Chicago:20260811T103000
DTSTAMP:20260421T104459
CREATED:20260106T172501Z
LAST-MODIFIED:20260109T172654Z
UID:10000836-1786437000-1786444200@clihtf.org
SUMMARY:Board Meeting
DESCRIPTION:Join an online meeting
URL:https://clihtf.org/event/board-meeting-11/2026-08-11/
CATEGORIES:Administrative Day,Board Meetings
END:VEVENT
BEGIN:VEVENT
DTSTART;TZID=America/Chicago:20260811T123000
DTEND;TZID=America/Chicago:20260811T140000
DTSTAMP:20260421T104459
CREATED:20241210T180734Z
LAST-MODIFIED:20241210T180734Z
UID:10000478-1786451400-1786456800@clihtf.org
SUMMARY:How to Complete Rental Subsidy Program Annual Agreement/ CLIHTF 2024 Policy and Procedure
DESCRIPTION:
URL:https://clihtf.org/event/how-to-complete-rental-subsidy-program-annual-agreement-clihtf-2024-policy-and-procedure/2026-08-11/
END:VEVENT
BEGIN:VEVENT
DTSTART;VALUE=DATE:20260812
DTEND;VALUE=DATE:20260813
DTSTAMP:20260421T104459
CREATED:20230731T203806Z
LAST-MODIFIED:20230731T203807Z
UID:10000161-1786492800-1786579199@clihtf.org
SUMMARY:Administrative Day
DESCRIPTION:Office Closed
URL:https://clihtf.org/event/administrative-day-2-2/2026-08-12/
CATEGORIES:Administrative Day
END:VEVENT
BEGIN:VEVENT
DTSTART;TZID=America/Chicago:20260813T083000
DTEND;TZID=America/Chicago:20260813T103000
DTSTAMP:20260421T104459
CREATED:20260107T191349Z
LAST-MODIFIED:20260205T162946Z
UID:10000857-1786609800-1786617000@clihtf.org
SUMMARY:Outreach Meeting
DESCRIPTION:
URL:https://clihtf.org/event/outreach-meeting-10/2026-08-13/
CATEGORIES:Administrative Day
END:VEVENT
BEGIN:VEVENT
DTSTART;TZID=America/Chicago:20260813T173000
DTEND;TZID=America/Chicago:20260813T193000
DTSTAMP:20260421T104459
CREATED:20241210T181459Z
LAST-MODIFIED:20241210T181557Z
UID:10000608-1786642200-1786649400@clihtf.org
SUMMARY:Trust Fund Central Introductory Training Session (Evening)
DESCRIPTION:
URL:https://clihtf.org/event/trust-fund-central-introductory-training-session-evening/2026-08-13/
END:VEVENT
BEGIN:VEVENT
DTSTART;TZID=America/Chicago:20260818T123000
DTEND;TZID=America/Chicago:20260818T133000
DTSTAMP:20260421T104459
CREATED:20241210T180305Z
LAST-MODIFIED:20241210T180305Z
UID:10000348-1787056200-1787059800@clihtf.org
SUMMARY:Trust Fund Central Introductory Training Session
DESCRIPTION:
URL:https://clihtf.org/event/trust-fund-central-introductory-training-session/2026-08-18/
END:VEVENT
BEGIN:VEVENT
DTSTART;VALUE=DATE:20260819
DTEND;VALUE=DATE:20260820
DTSTAMP:20260421T104459
CREATED:20230731T203806Z
LAST-MODIFIED:20230731T203807Z
UID:10000162-1787097600-1787183999@clihtf.org
SUMMARY:Administrative Day
DESCRIPTION:Office Closed
URL:https://clihtf.org/event/administrative-day-2-2/2026-08-19/
CATEGORIES:Administrative Day
END:VEVENT
BEGIN:VEVENT
DTSTART;TZID=America/Chicago:20260819T123000
DTEND;TZID=America/Chicago:20260819T143000
DTSTAMP:20260421T104459
CREATED:20241210T181841Z
LAST-MODIFIED:20241210T181841Z
UID:10000715-1787142600-1787149800@clihtf.org
SUMMARY:Social Service Agency Partnership Training
DESCRIPTION:
URL:https://clihtf.org/event/social-service-agency-partnership-training/2026-08-19/
END:VEVENT
BEGIN:VEVENT
DTSTART;TZID=America/Chicago:20260825T123000
DTEND;TZID=America/Chicago:20260825T140000
DTSTAMP:20260421T104459
CREATED:20241210T180734Z
LAST-MODIFIED:20241210T180734Z
UID:10000479-1787661000-1787666400@clihtf.org
SUMMARY:How to Complete Rental Subsidy Program Annual Agreement/ CLIHTF 2024 Policy and Procedure
DESCRIPTION:
URL:https://clihtf.org/event/how-to-complete-rental-subsidy-program-annual-agreement-clihtf-2024-policy-and-procedure/2026-08-25/
END:VEVENT
BEGIN:VEVENT
DTSTART;VALUE=DATE:20260826
DTEND;VALUE=DATE:20260827
DTSTAMP:20260421T104459
CREATED:20230731T203806Z
LAST-MODIFIED:20230731T203807Z
UID:10000163-1787702400-1787788799@clihtf.org
SUMMARY:Administrative Day
DESCRIPTION:Office Closed
URL:https://clihtf.org/event/administrative-day-2-2/2026-08-26/
CATEGORIES:Administrative Day
END:VEVENT
BEGIN:VEVENT
DTSTART;TZID=America/Chicago:20260827T173000
DTEND;TZID=America/Chicago:20260827T193000
DTSTAMP:20260421T104459
CREATED:20241210T181459Z
LAST-MODIFIED:20241210T181557Z
UID:10000609-1787851800-1787859000@clihtf.org
SUMMARY:Trust Fund Central Introductory Training Session (Evening)
DESCRIPTION:
URL:https://clihtf.org/event/trust-fund-central-introductory-training-session-evening/2026-08-27/
END:VEVENT
BEGIN:VEVENT
DTSTART;TZID=America/Chicago:20260901T123000
DTEND;TZID=America/Chicago:20260901T133000
DTSTAMP:20260421T104459
CREATED:20241210T180305Z
LAST-MODIFIED:20241210T180305Z
UID:10000349-1788265800-1788269400@clihtf.org
SUMMARY:Trust Fund Central Introductory Training Session
DESCRIPTION:
URL:https://clihtf.org/event/trust-fund-central-introductory-training-session/2026-09-01/
END:VEVENT
END:VCALENDAR