BEGIN:VCALENDAR
VERSION:2.0
PRODID:-//CLIHTF - ECPv6.15.20//NONSGML v1.0//EN
CALSCALE:GREGORIAN
METHOD:PUBLISH
X-ORIGINAL-URL:https://clihtf.org
X-WR-CALDESC:Events for CLIHTF
REFRESH-INTERVAL;VALUE=DURATION:PT1H
X-Robots-Tag:noindex
X-PUBLISHED-TTL:PT1H
BEGIN:VTIMEZONE
TZID:UTC
BEGIN:STANDARD
TZOFFSETFROM:+0000
TZOFFSETTO:+0000
TZNAME:UTC
DTSTART:20250101T000000
END:STANDARD
END:VTIMEZONE
BEGIN:VTIMEZONE
TZID:America/Chicago
BEGIN:DAYLIGHT
TZOFFSETFROM:-0600
TZOFFSETTO:-0500
TZNAME:CDT
DTSTART:20250309T080000
END:DAYLIGHT
BEGIN:STANDARD
TZOFFSETFROM:-0500
TZOFFSETTO:-0600
TZNAME:CST
DTSTART:20251102T070000
END:STANDARD
BEGIN:DAYLIGHT
TZOFFSETFROM:-0600
TZOFFSETTO:-0500
TZNAME:CDT
DTSTART:20260308T080000
END:DAYLIGHT
BEGIN:STANDARD
TZOFFSETFROM:-0500
TZOFFSETTO:-0600
TZNAME:CST
DTSTART:20261101T070000
END:STANDARD
BEGIN:DAYLIGHT
TZOFFSETFROM:-0600
TZOFFSETTO:-0500
TZNAME:CDT
DTSTART:20270314T080000
END:DAYLIGHT
BEGIN:STANDARD
TZOFFSETFROM:-0500
TZOFFSETTO:-0600
TZNAME:CST
DTSTART:20271107T070000
END:STANDARD
END:VTIMEZONE
BEGIN:VEVENT
DTSTART;VALUE=DATE:20260902
DTEND;VALUE=DATE:20260903
DTSTAMP:20260421T175924
CREATED:20230731T203806Z
LAST-MODIFIED:20230731T203807Z
UID:10000164-1788307200-1788393599@clihtf.org
SUMMARY:Administrative Day
DESCRIPTION:Office Closed
URL:https://clihtf.org/event/administrative-day-2-2/2026-09-02/
CATEGORIES:Administrative Day
END:VEVENT
BEGIN:VEVENT
DTSTART;TZID=America/Chicago:20260907T150000
DTEND;TZID=America/Chicago:20260907T163000
DTSTAMP:20260421T175924
CREATED:20260112T155109Z
LAST-MODIFIED:20260112T155109Z
UID:10000864-1788793200-1788798600@clihtf.org
SUMMARY:Finance Meeting
DESCRIPTION:
URL:https://clihtf.org/event/finance-meeting-18/
CATEGORIES:Administrative Day
END:VEVENT
BEGIN:VEVENT
DTSTART;TZID=America/Chicago:20260908T083000
DTEND;TZID=America/Chicago:20260908T103000
DTSTAMP:20260421T175924
CREATED:20260106T172501Z
LAST-MODIFIED:20260109T172654Z
UID:10000837-1788856200-1788863400@clihtf.org
SUMMARY:Board Meeting
DESCRIPTION:Join an online meeting
URL:https://clihtf.org/event/board-meeting-11/2026-09-08/
CATEGORIES:Administrative Day,Board Meetings
END:VEVENT
BEGIN:VEVENT
DTSTART;VALUE=DATE:20260909
DTEND;VALUE=DATE:20260910
DTSTAMP:20260421T175924
CREATED:20230731T203806Z
LAST-MODIFIED:20230731T203807Z
UID:10000165-1788912000-1788998399@clihtf.org
SUMMARY:Administrative Day
DESCRIPTION:Office Closed
URL:https://clihtf.org/event/administrative-day-2-2/2026-09-09/
CATEGORIES:Administrative Day
END:VEVENT
BEGIN:VEVENT
DTSTART;TZID=America/Chicago:20260910T083000
DTEND;TZID=America/Chicago:20260910T103000
DTSTAMP:20260421T175924
CREATED:20260107T191349Z
LAST-MODIFIED:20260205T162946Z
UID:10000858-1789029000-1789036200@clihtf.org
SUMMARY:Outreach Meeting
DESCRIPTION:
URL:https://clihtf.org/event/outreach-meeting-10/2026-09-10/
CATEGORIES:Administrative Day
END:VEVENT
BEGIN:VEVENT
DTSTART;VALUE=DATE:20260916
DTEND;VALUE=DATE:20260917
DTSTAMP:20260421T175924
CREATED:20230731T203806Z
LAST-MODIFIED:20230731T203807Z
UID:10000166-1789516800-1789603199@clihtf.org
SUMMARY:Administrative Day
DESCRIPTION:Office Closed
URL:https://clihtf.org/event/administrative-day-2-2/2026-09-16/
CATEGORIES:Administrative Day
END:VEVENT
BEGIN:VEVENT
DTSTART;VALUE=DATE:20260923
DTEND;VALUE=DATE:20260924
DTSTAMP:20260421T175924
CREATED:20230731T203806Z
LAST-MODIFIED:20230731T203807Z
UID:10000167-1790121600-1790207999@clihtf.org
SUMMARY:Administrative Day
DESCRIPTION:Office Closed
URL:https://clihtf.org/event/administrative-day-2-2/2026-09-23/
CATEGORIES:Administrative Day
END:VEVENT
BEGIN:VEVENT
DTSTART;VALUE=DATE:20260930
DTEND;VALUE=DATE:20261001
DTSTAMP:20260421T175924
CREATED:20230731T203806Z
LAST-MODIFIED:20230731T203807Z
UID:10000168-1790726400-1790812799@clihtf.org
SUMMARY:Administrative Day
DESCRIPTION:Office Closed
URL:https://clihtf.org/event/administrative-day-2-2/2026-09-30/
CATEGORIES:Administrative Day
END:VEVENT
BEGIN:VEVENT
DTSTART;TZID=America/Chicago:20261006T140000
DTEND;TZID=America/Chicago:20261006T150000
DTSTAMP:20260421T175924
CREATED:20260109T174013Z
LAST-MODIFIED:20260109T174542Z
UID:10000848-1791295200-1791298800@clihtf.org
SUMMARY:Allocations Meeting
DESCRIPTION:
URL:https://clihtf.org/event/allocations-meeting-14/2026-10-06/
CATEGORIES:Administrative Day
END:VEVENT
BEGIN:VEVENT
DTSTART;VALUE=DATE:20261007
DTEND;VALUE=DATE:20261008
DTSTAMP:20260421T175924
CREATED:20230731T203806Z
LAST-MODIFIED:20230731T203807Z
UID:10000169-1791331200-1791417599@clihtf.org
SUMMARY:Administrative Day
DESCRIPTION:Office Closed
URL:https://clihtf.org/event/administrative-day-2-2/2026-10-07/
CATEGORIES:Administrative Day
END:VEVENT
BEGIN:VEVENT
DTSTART;TZID=America/Chicago:20261008T150000
DTEND;TZID=America/Chicago:20261008T163000
DTSTAMP:20260421T175924
CREATED:20260112T155225Z
LAST-MODIFIED:20260112T155225Z
UID:10000865-1791471600-1791477000@clihtf.org
SUMMARY:Finance Meeting
DESCRIPTION:
URL:https://clihtf.org/event/finance-meeting-19/
CATEGORIES:Administrative Day
END:VEVENT
BEGIN:VEVENT
DTSTART;TZID=America/Chicago:20261013T083000
DTEND;TZID=America/Chicago:20261013T103000
DTSTAMP:20260421T175924
CREATED:20260106T172501Z
LAST-MODIFIED:20260109T172654Z
UID:10000838-1791880200-1791887400@clihtf.org
SUMMARY:Board Meeting
DESCRIPTION:Join an online meeting
URL:https://clihtf.org/event/board-meeting-11/2026-10-13/
CATEGORIES:Administrative Day,Board Meetings
END:VEVENT
BEGIN:VEVENT
DTSTART;VALUE=DATE:20261014
DTEND;VALUE=DATE:20261015
DTSTAMP:20260421T175924
CREATED:20230731T203806Z
LAST-MODIFIED:20230731T203807Z
UID:10000170-1791936000-1792022399@clihtf.org
SUMMARY:Administrative Day
DESCRIPTION:Office Closed
URL:https://clihtf.org/event/administrative-day-2-2/2026-10-14/
CATEGORIES:Administrative Day
END:VEVENT
BEGIN:VEVENT
DTSTART;TZID=America/Chicago:20261015T083000
DTEND;TZID=America/Chicago:20261015T100000
DTSTAMP:20260421T175924
CREATED:20260106T172628Z
LAST-MODIFIED:20260109T175708Z
UID:10000853-1792053000-1792058400@clihtf.org
SUMMARY:Outreach Meeting
DESCRIPTION:
URL:https://clihtf.org/event/outreach-meeting-9/2026-10-15/
CATEGORIES:Administrative Day
END:VEVENT
BEGIN:VEVENT
DTSTART;VALUE=DATE:20261021
DTEND;VALUE=DATE:20261022
DTSTAMP:20260421T175924
CREATED:20230731T203806Z
LAST-MODIFIED:20230731T203807Z
UID:10000171-1792540800-1792627199@clihtf.org
SUMMARY:Administrative Day
DESCRIPTION:Office Closed
URL:https://clihtf.org/event/administrative-day-2-2/2026-10-21/
CATEGORIES:Administrative Day
END:VEVENT
BEGIN:VEVENT
DTSTART;VALUE=DATE:20261028
DTEND;VALUE=DATE:20261029
DTSTAMP:20260421T175924
CREATED:20230731T203806Z
LAST-MODIFIED:20230731T203807Z
UID:10000172-1793145600-1793231999@clihtf.org
SUMMARY:Administrative Day
DESCRIPTION:Office Closed
URL:https://clihtf.org/event/administrative-day-2-2/2026-10-28/
CATEGORIES:Administrative Day
END:VEVENT
BEGIN:VEVENT
DTSTART;TZID=America/Chicago:20261103T140000
DTEND;TZID=America/Chicago:20261103T150000
DTSTAMP:20260421T175924
CREATED:20260109T174013Z
LAST-MODIFIED:20260109T174542Z
UID:10000849-1793714400-1793718000@clihtf.org
SUMMARY:Allocations Meeting
DESCRIPTION:
URL:https://clihtf.org/event/allocations-meeting-14/2026-11-03/
CATEGORIES:Administrative Day
END:VEVENT
BEGIN:VEVENT
DTSTART;VALUE=DATE:20261104
DTEND;VALUE=DATE:20261105
DTSTAMP:20260421T175924
CREATED:20230731T203806Z
LAST-MODIFIED:20230731T203807Z
UID:10000173-1793750400-1793836799@clihtf.org
SUMMARY:Administrative Day
DESCRIPTION:Office Closed
URL:https://clihtf.org/event/administrative-day-2-2/2026-11-04/
CATEGORIES:Administrative Day
END:VEVENT
BEGIN:VEVENT
DTSTART;TZID=America/Chicago:20261109T150000
DTEND;TZID=America/Chicago:20261109T163000
DTSTAMP:20260421T175924
CREATED:20260112T155445Z
LAST-MODIFIED:20260112T155445Z
UID:10000866-1794236400-1794241800@clihtf.org
SUMMARY:Finance Meeting
DESCRIPTION:
URL:https://clihtf.org/event/finance-meeting-20/
CATEGORIES:Administrative Day
END:VEVENT
BEGIN:VEVENT
DTSTART;TZID=America/Chicago:20261110T083000
DTEND;TZID=America/Chicago:20261110T103000
DTSTAMP:20260421T175924
CREATED:20260106T172501Z
LAST-MODIFIED:20260109T172654Z
UID:10000839-1794299400-1794306600@clihtf.org
SUMMARY:Board Meeting
DESCRIPTION:Join an online meeting
URL:https://clihtf.org/event/board-meeting-11/2026-11-10/
CATEGORIES:Administrative Day,Board Meetings
END:VEVENT
BEGIN:VEVENT
DTSTART;VALUE=DATE:20261111
DTEND;VALUE=DATE:20261112
DTSTAMP:20260421T175924
CREATED:20230731T203806Z
LAST-MODIFIED:20230731T203807Z
UID:10000174-1794355200-1794441599@clihtf.org
SUMMARY:Administrative Day
DESCRIPTION:Office Closed
URL:https://clihtf.org/event/administrative-day-2-2/2026-11-11/
CATEGORIES:Administrative Day
END:VEVENT
BEGIN:VEVENT
DTSTART;TZID=America/Chicago:20261112T083000
DTEND;TZID=America/Chicago:20261112T103000
DTSTAMP:20260421T175924
CREATED:20260107T191349Z
LAST-MODIFIED:20260205T162946Z
UID:10000859-1794472200-1794479400@clihtf.org
SUMMARY:Outreach Meeting
DESCRIPTION:
URL:https://clihtf.org/event/outreach-meeting-10/2026-11-12/
CATEGORIES:Administrative Day
END:VEVENT
BEGIN:VEVENT
DTSTART;VALUE=DATE:20261118
DTEND;VALUE=DATE:20261119
DTSTAMP:20260421T175924
CREATED:20230731T203806Z
LAST-MODIFIED:20230731T203807Z
UID:10000175-1794960000-1795046399@clihtf.org
SUMMARY:Administrative Day
DESCRIPTION:Office Closed
URL:https://clihtf.org/event/administrative-day-2-2/2026-11-18/
CATEGORIES:Administrative Day
END:VEVENT
BEGIN:VEVENT
DTSTART;VALUE=DATE:20261125
DTEND;VALUE=DATE:20261126
DTSTAMP:20260421T175924
CREATED:20230731T203806Z
LAST-MODIFIED:20230731T203807Z
UID:10000176-1795564800-1795651199@clihtf.org
SUMMARY:Administrative Day
DESCRIPTION:Office Closed
URL:https://clihtf.org/event/administrative-day-2-2/2026-11-25/
CATEGORIES:Administrative Day
END:VEVENT
BEGIN:VEVENT
DTSTART;TZID=America/Chicago:20261201T140000
DTEND;TZID=America/Chicago:20261201T150000
DTSTAMP:20260421T175924
CREATED:20260109T174013Z
LAST-MODIFIED:20260109T174542Z
UID:10000850-1796133600-1796137200@clihtf.org
SUMMARY:Allocations Meeting
DESCRIPTION:
URL:https://clihtf.org/event/allocations-meeting-14/2026-12-01/
CATEGORIES:Administrative Day
END:VEVENT
BEGIN:VEVENT
DTSTART;VALUE=DATE:20261202
DTEND;VALUE=DATE:20261203
DTSTAMP:20260421T175924
CREATED:20230731T203806Z
LAST-MODIFIED:20230731T203807Z
UID:10000177-1796169600-1796255999@clihtf.org
SUMMARY:Administrative Day
DESCRIPTION:Office Closed
URL:https://clihtf.org/event/administrative-day-2-2/2026-12-02/
CATEGORIES:Administrative Day
END:VEVENT
BEGIN:VEVENT
DTSTART;TZID=America/Chicago:20261207T150000
DTEND;TZID=America/Chicago:20261207T163000
DTSTAMP:20260421T175924
CREATED:20260112T155549Z
LAST-MODIFIED:20260112T155549Z
UID:10000867-1796655600-1796661000@clihtf.org
SUMMARY:Finance Meeting
DESCRIPTION:
URL:https://clihtf.org/event/finance-meeting-21/
CATEGORIES:Administrative Day
END:VEVENT
BEGIN:VEVENT
DTSTART;TZID=America/Chicago:20261208T083000
DTEND;TZID=America/Chicago:20261208T103000
DTSTAMP:20260421T175924
CREATED:20260106T172501Z
LAST-MODIFIED:20260109T172654Z
UID:10000840-1796718600-1796725800@clihtf.org
SUMMARY:Board Meeting
DESCRIPTION:Join an online meeting
URL:https://clihtf.org/event/board-meeting-11/2026-12-08/
CATEGORIES:Administrative Day,Board Meetings
END:VEVENT
BEGIN:VEVENT
DTSTART;VALUE=DATE:20261209
DTEND;VALUE=DATE:20261210
DTSTAMP:20260421T175924
CREATED:20230731T203806Z
LAST-MODIFIED:20230731T203807Z
UID:10000178-1796774400-1796860799@clihtf.org
SUMMARY:Administrative Day
DESCRIPTION:Office Closed
URL:https://clihtf.org/event/administrative-day-2-2/2026-12-09/
CATEGORIES:Administrative Day
END:VEVENT
BEGIN:VEVENT
DTSTART;TZID=America/Chicago:20261210T083000
DTEND;TZID=America/Chicago:20261210T103000
DTSTAMP:20260421T175924
CREATED:20260107T191349Z
LAST-MODIFIED:20260205T162946Z
UID:10000860-1796891400-1796898600@clihtf.org
SUMMARY:Outreach Meeting
DESCRIPTION:
URL:https://clihtf.org/event/outreach-meeting-10/2026-12-10/
CATEGORIES:Administrative Day
END:VEVENT
END:VCALENDAR