BEGIN:VCALENDAR
VERSION:2.0
PRODID:-//CLIHTF - ECPv6.15.20//NONSGML v1.0//EN
CALSCALE:GREGORIAN
METHOD:PUBLISH
X-ORIGINAL-URL:https://clihtf.org
X-WR-CALDESC:Events for CLIHTF
REFRESH-INTERVAL;VALUE=DURATION:PT1H
X-Robots-Tag:noindex
X-PUBLISHED-TTL:PT1H
BEGIN:VTIMEZONE
TZID:UTC
BEGIN:STANDARD
TZOFFSETFROM:+0000
TZOFFSETTO:+0000
TZNAME:UTC
DTSTART:20260101T000000
END:STANDARD
END:VTIMEZONE
BEGIN:VEVENT
DTSTART;VALUE=DATE:20270505
DTEND;VALUE=DATE:20270506
DTSTAMP:20260422T013017
CREATED:20230731T203806Z
LAST-MODIFIED:20230731T203807Z
UID:10000199-1809475200-1809561599@clihtf.org
SUMMARY:Administrative Day
DESCRIPTION:Office Closed
URL:https://clihtf.org/event/administrative-day-2-2/2027-05-05/
CATEGORIES:Administrative Day
END:VEVENT
BEGIN:VEVENT
DTSTART;VALUE=DATE:20270512
DTEND;VALUE=DATE:20270513
DTSTAMP:20260422T013017
CREATED:20230731T203806Z
LAST-MODIFIED:20230731T203807Z
UID:10000200-1810080000-1810166399@clihtf.org
SUMMARY:Administrative Day
DESCRIPTION:Office Closed
URL:https://clihtf.org/event/administrative-day-2-2/2027-05-12/
CATEGORIES:Administrative Day
END:VEVENT
BEGIN:VEVENT
DTSTART;VALUE=DATE:20270519
DTEND;VALUE=DATE:20270520
DTSTAMP:20260422T013017
CREATED:20230731T203806Z
LAST-MODIFIED:20230731T203807Z
UID:10000201-1810684800-1810771199@clihtf.org
SUMMARY:Administrative Day
DESCRIPTION:Office Closed
URL:https://clihtf.org/event/administrative-day-2-2/2027-05-19/
CATEGORIES:Administrative Day
END:VEVENT
BEGIN:VEVENT
DTSTART;VALUE=DATE:20270526
DTEND;VALUE=DATE:20270527
DTSTAMP:20260422T013017
CREATED:20230731T203806Z
LAST-MODIFIED:20230731T203807Z
UID:10000202-1811289600-1811375999@clihtf.org
SUMMARY:Administrative Day
DESCRIPTION:Office Closed
URL:https://clihtf.org/event/administrative-day-2-2/2027-05-26/
CATEGORIES:Administrative Day
END:VEVENT
END:VCALENDAR