BEGIN:VCALENDAR
VERSION:2.0
PRODID:-//CLIHTF - ECPv6.15.20//NONSGML v1.0//EN
CALSCALE:GREGORIAN
METHOD:PUBLISH
X-WR-CALNAME:CLIHTF
X-ORIGINAL-URL:https://clihtf.org
X-WR-CALDESC:Events for CLIHTF
REFRESH-INTERVAL;VALUE=DURATION:PT1H
X-Robots-Tag:noindex
X-PUBLISHED-TTL:PT1H
BEGIN:VTIMEZONE
TZID:UTC
BEGIN:STANDARD
TZOFFSETFROM:+0000
TZOFFSETTO:+0000
TZNAME:UTC
DTSTART:20260101T000000
END:STANDARD
END:VTIMEZONE
BEGIN:VEVENT
DTSTART;VALUE=DATE:20270106
DTEND;VALUE=DATE:20270107
DTSTAMP:20260421T132513
CREATED:20230731T203806Z
LAST-MODIFIED:20230731T203807Z
UID:10000182-1799193600-1799279999@clihtf.org
SUMMARY:Administrative Day
DESCRIPTION:Office Closed
URL:https://clihtf.org/event/administrative-day-2-2/2027-01-06/
CATEGORIES:Administrative Day
END:VEVENT
BEGIN:VEVENT
DTSTART;VALUE=DATE:20270113
DTEND;VALUE=DATE:20270114
DTSTAMP:20260421T132513
CREATED:20230731T203806Z
LAST-MODIFIED:20230731T203807Z
UID:10000183-1799798400-1799884799@clihtf.org
SUMMARY:Administrative Day
DESCRIPTION:Office Closed
URL:https://clihtf.org/event/administrative-day-2-2/2027-01-13/
CATEGORIES:Administrative Day
END:VEVENT
BEGIN:VEVENT
DTSTART;VALUE=DATE:20270120
DTEND;VALUE=DATE:20270121
DTSTAMP:20260421T132513
CREATED:20230731T203806Z
LAST-MODIFIED:20230731T203807Z
UID:10000184-1800403200-1800489599@clihtf.org
SUMMARY:Administrative Day
DESCRIPTION:Office Closed
URL:https://clihtf.org/event/administrative-day-2-2/2027-01-20/
CATEGORIES:Administrative Day
END:VEVENT
BEGIN:VEVENT
DTSTART;VALUE=DATE:20270127
DTEND;VALUE=DATE:20270128
DTSTAMP:20260421T132513
CREATED:20230731T203806Z
LAST-MODIFIED:20230731T203807Z
UID:10000185-1801008000-1801094399@clihtf.org
SUMMARY:Administrative Day
DESCRIPTION:Office Closed
URL:https://clihtf.org/event/administrative-day-2-2/2027-01-27/
CATEGORIES:Administrative Day
END:VEVENT
END:VCALENDAR